BEGIN:VCALENDAR
VERSION:2.0
PRODID:-//The WARM Place - ECPv6.15.18//NONSGML v1.0//EN
CALSCALE:GREGORIAN
METHOD:PUBLISH
X-ORIGINAL-URL:https://www.thewarmplace.org
X-WR-CALDESC:Events for The WARM Place
REFRESH-INTERVAL;VALUE=DURATION:PT1H
X-Robots-Tag:noindex
X-PUBLISHED-TTL:PT1H
BEGIN:VTIMEZONE
TZID:America/Chicago
BEGIN:DAYLIGHT
TZOFFSETFROM:-0600
TZOFFSETTO:-0500
TZNAME:CDT
DTSTART:20260308T080000
END:DAYLIGHT
BEGIN:STANDARD
TZOFFSETFROM:-0500
TZOFFSETTO:-0600
TZNAME:CST
DTSTART:20261101T070000
END:STANDARD
BEGIN:DAYLIGHT
TZOFFSETFROM:-0600
TZOFFSETTO:-0500
TZNAME:CDT
DTSTART:20270314T080000
END:DAYLIGHT
BEGIN:STANDARD
TZOFFSETFROM:-0500
TZOFFSETTO:-0600
TZNAME:CST
DTSTART:20271107T070000
END:STANDARD
BEGIN:DAYLIGHT
TZOFFSETFROM:-0600
TZOFFSETTO:-0500
TZNAME:CDT
DTSTART:20280312T080000
END:DAYLIGHT
BEGIN:STANDARD
TZOFFSETFROM:-0500
TZOFFSETTO:-0600
TZNAME:CST
DTSTART:20281105T070000
END:STANDARD
END:VTIMEZONE
BEGIN:VEVENT
DTSTART;TZID=America/Chicago:20271004T181500
DTEND;TZID=America/Chicago:20271004T201500
DTSTAMP:20260420T013524
CREATED:20250624T055606Z
LAST-MODIFIED:20250624T055606Z
UID:16814588-1822673700-1822680900@www.thewarmplace.org
SUMMARY:Sibling Group
DESCRIPTION:Support group for children ages 5-18 who have experienced the death of a sibling. Children must be accompanied by a parent or legal guardian. Families must contact The WARM Place to schedule an intake appointment prior to joining evening groups.
URL:https://www.thewarmplace.org/event/sibling-group/2027-10-04/
LOCATION:The WARM Place\, 809 Lipscomb Street\, Fort Worth\, TX\, 76104\, United States
CATEGORIES:Group Nights
GEO:32.7359889;-97.333097
X-APPLE-STRUCTURED-LOCATION;VALUE=URI;X-ADDRESS=The WARM Place 809 Lipscomb Street Fort Worth TX 76104 United States;X-APPLE-RADIUS=500;X-TITLE=809 Lipscomb Street:geo:-97.333097,32.7359889
END:VEVENT
BEGIN:VEVENT
DTSTART;TZID=America/Chicago:20271005T173000
DTEND;TZID=America/Chicago:20271005T204500
DTSTAMP:20260420T013524
CREATED:20251104T143010Z
LAST-MODIFIED:20251104T143108Z
UID:16815358-1822757400-1822769100@www.thewarmplace.org
SUMMARY:Virtual Grief Support Group
DESCRIPTION:Virtual support groups for children ages 5-18 who have experienced the death of a loved one. Families must contact The WARM Place to schedule an intake appointment prior to joining group. Sessions last between 30-45 minutes.
URL:https://www.thewarmplace.org/event/virtual-grief-support-group/2027-10-05/
LOCATION:The WARM Place\, 809 Lipscomb Street\, Fort Worth\, TX\, 76104\, United States
CATEGORIES:Virtual Groups
GEO:32.7359889;-97.333097
X-APPLE-STRUCTURED-LOCATION;VALUE=URI;X-ADDRESS=The WARM Place 809 Lipscomb Street Fort Worth TX 76104 United States;X-APPLE-RADIUS=500;X-TITLE=809 Lipscomb Street:geo:-97.333097,32.7359889
END:VEVENT
BEGIN:VEVENT
DTSTART;TZID=America/Chicago:20271005T181500
DTEND;TZID=America/Chicago:20271005T201500
DTSTAMP:20260420T013524
CREATED:20250624T065017Z
LAST-MODIFIED:20250624T065017Z
UID:16814830-1822760100-1822767300@www.thewarmplace.org
SUMMARY:S&D V Group
DESCRIPTION:Support group for children ages 5-18 who have experienced the death of a parent. Children must be accompanied by a parent or legal guardian. Families must contact The WARM Place to schedule an intake appointment prior to joining evening groups.
URL:https://www.thewarmplace.org/event/sd-v-group/2027-10-05/
LOCATION:The WARM Place\, 809 Lipscomb Street\, Fort Worth\, TX\, 76104\, United States
CATEGORIES:Group Nights
GEO:32.7359889;-97.333097
X-APPLE-STRUCTURED-LOCATION;VALUE=URI;X-ADDRESS=The WARM Place 809 Lipscomb Street Fort Worth TX 76104 United States;X-APPLE-RADIUS=500;X-TITLE=809 Lipscomb Street:geo:-97.333097,32.7359889
END:VEVENT
BEGIN:VEVENT
DTSTART;TZID=America/Chicago:20271006T181500
DTEND;TZID=America/Chicago:20271006T201500
DTSTAMP:20260420T013524
CREATED:20250624T064541Z
LAST-MODIFIED:20250624T064541Z
UID:16814951-1822846500-1822853700@www.thewarmplace.org
SUMMARY:S&D IV Group
DESCRIPTION:Support group for children ages 5-18 who have experienced the death of a parent. Children must be accompanied by a parent or legal guardian. Families must contact The WARM Place to schedule an intake appointment prior to joining evening groups.
URL:https://www.thewarmplace.org/event/sd-iv-group/2027-10-06/
LOCATION:TX
CATEGORIES:Group Nights
END:VEVENT
BEGIN:VEVENT
DTSTART;TZID=America/Chicago:20271007T181500
DTEND;TZID=America/Chicago:20271007T201500
DTSTAMP:20260420T013524
CREATED:20250624T064220Z
LAST-MODIFIED:20250624T064220Z
UID:16815072-1822932900-1822940100@www.thewarmplace.org
SUMMARY:S&D III Group
DESCRIPTION:Support group for children ages 5-18 who have experienced the death of a parent. Children must be accompanied by a parent or legal guardian. Families must contact The WARM Place to schedule an intake appointment prior to joining evening groups.
URL:https://www.thewarmplace.org/event/sd-iii-group/2027-10-07/
LOCATION:The WARM Place\, 809 Lipscomb Street\, Fort Worth\, TX\, 76104\, United States
CATEGORIES:Group Nights
GEO:32.7359889;-97.333097
X-APPLE-STRUCTURED-LOCATION;VALUE=URI;X-ADDRESS=The WARM Place 809 Lipscomb Street Fort Worth TX 76104 United States;X-APPLE-RADIUS=500;X-TITLE=809 Lipscomb Street:geo:-97.333097,32.7359889
END:VEVENT
BEGIN:VEVENT
DTSTART;TZID=America/Chicago:20271018T181500
DTEND;TZID=America/Chicago:20271018T201500
DTSTAMP:20260420T013524
CREATED:20250624T055606Z
LAST-MODIFIED:20250624T055606Z
UID:16814589-1823883300-1823890500@www.thewarmplace.org
SUMMARY:Sibling Group
DESCRIPTION:Support group for children ages 5-18 who have experienced the death of a sibling. Children must be accompanied by a parent or legal guardian. Families must contact The WARM Place to schedule an intake appointment prior to joining evening groups.
URL:https://www.thewarmplace.org/event/sibling-group/2027-10-18/
LOCATION:The WARM Place\, 809 Lipscomb Street\, Fort Worth\, TX\, 76104\, United States
CATEGORIES:Group Nights
GEO:32.7359889;-97.333097
X-APPLE-STRUCTURED-LOCATION;VALUE=URI;X-ADDRESS=The WARM Place 809 Lipscomb Street Fort Worth TX 76104 United States;X-APPLE-RADIUS=500;X-TITLE=809 Lipscomb Street:geo:-97.333097,32.7359889
END:VEVENT
BEGIN:VEVENT
DTSTART;TZID=America/Chicago:20271019T173000
DTEND;TZID=America/Chicago:20271019T204500
DTSTAMP:20260420T013524
CREATED:20251104T143010Z
LAST-MODIFIED:20251104T143108Z
UID:16815359-1823967000-1823978700@www.thewarmplace.org
SUMMARY:Virtual Grief Support Group
DESCRIPTION:Virtual support groups for children ages 5-18 who have experienced the death of a loved one. Families must contact The WARM Place to schedule an intake appointment prior to joining group. Sessions last between 30-45 minutes.
URL:https://www.thewarmplace.org/event/virtual-grief-support-group/2027-10-19/
LOCATION:The WARM Place\, 809 Lipscomb Street\, Fort Worth\, TX\, 76104\, United States
CATEGORIES:Virtual Groups
GEO:32.7359889;-97.333097
X-APPLE-STRUCTURED-LOCATION;VALUE=URI;X-ADDRESS=The WARM Place 809 Lipscomb Street Fort Worth TX 76104 United States;X-APPLE-RADIUS=500;X-TITLE=809 Lipscomb Street:geo:-97.333097,32.7359889
END:VEVENT
BEGIN:VEVENT
DTSTART;TZID=America/Chicago:20271019T181500
DTEND;TZID=America/Chicago:20271019T201500
DTSTAMP:20260420T013524
CREATED:20250624T065017Z
LAST-MODIFIED:20250624T065017Z
UID:16814831-1823969700-1823976900@www.thewarmplace.org
SUMMARY:S&D V Group
DESCRIPTION:Support group for children ages 5-18 who have experienced the death of a parent. Children must be accompanied by a parent or legal guardian. Families must contact The WARM Place to schedule an intake appointment prior to joining evening groups.
URL:https://www.thewarmplace.org/event/sd-v-group/2027-10-19/
LOCATION:The WARM Place\, 809 Lipscomb Street\, Fort Worth\, TX\, 76104\, United States
CATEGORIES:Group Nights
GEO:32.7359889;-97.333097
X-APPLE-STRUCTURED-LOCATION;VALUE=URI;X-ADDRESS=The WARM Place 809 Lipscomb Street Fort Worth TX 76104 United States;X-APPLE-RADIUS=500;X-TITLE=809 Lipscomb Street:geo:-97.333097,32.7359889
END:VEVENT
BEGIN:VEVENT
DTSTART;TZID=America/Chicago:20271020T181500
DTEND;TZID=America/Chicago:20271020T201500
DTSTAMP:20260420T013524
CREATED:20250624T064541Z
LAST-MODIFIED:20250624T064541Z
UID:16814952-1824056100-1824063300@www.thewarmplace.org
SUMMARY:S&D IV Group
DESCRIPTION:Support group for children ages 5-18 who have experienced the death of a parent. Children must be accompanied by a parent or legal guardian. Families must contact The WARM Place to schedule an intake appointment prior to joining evening groups.
URL:https://www.thewarmplace.org/event/sd-iv-group/2027-10-20/
LOCATION:TX
CATEGORIES:Group Nights
END:VEVENT
BEGIN:VEVENT
DTSTART;TZID=America/Chicago:20271021T181500
DTEND;TZID=America/Chicago:20271021T201500
DTSTAMP:20260420T013524
CREATED:20250624T064220Z
LAST-MODIFIED:20250624T064220Z
UID:16815073-1824142500-1824149700@www.thewarmplace.org
SUMMARY:S&D III Group
DESCRIPTION:Support group for children ages 5-18 who have experienced the death of a parent. Children must be accompanied by a parent or legal guardian. Families must contact The WARM Place to schedule an intake appointment prior to joining evening groups.
URL:https://www.thewarmplace.org/event/sd-iii-group/2027-10-21/
LOCATION:The WARM Place\, 809 Lipscomb Street\, Fort Worth\, TX\, 76104\, United States
CATEGORIES:Group Nights
GEO:32.7359889;-97.333097
X-APPLE-STRUCTURED-LOCATION;VALUE=URI;X-ADDRESS=The WARM Place 809 Lipscomb Street Fort Worth TX 76104 United States;X-APPLE-RADIUS=500;X-TITLE=809 Lipscomb Street:geo:-97.333097,32.7359889
END:VEVENT
END:VCALENDAR