BEGIN:VCALENDAR
VERSION:2.0
PRODID:-//The WARM Place - ECPv6.15.18//NONSGML v1.0//EN
CALSCALE:GREGORIAN
METHOD:PUBLISH
X-ORIGINAL-URL:https://www.thewarmplace.org
X-WR-CALDESC:Events for The WARM Place
REFRESH-INTERVAL;VALUE=DURATION:PT1H
X-Robots-Tag:noindex
X-PUBLISHED-TTL:PT1H
BEGIN:VTIMEZONE
TZID:America/Chicago
BEGIN:DAYLIGHT
TZOFFSETFROM:-0600
TZOFFSETTO:-0500
TZNAME:CDT
DTSTART:20270314T080000
END:DAYLIGHT
BEGIN:STANDARD
TZOFFSETFROM:-0500
TZOFFSETTO:-0600
TZNAME:CST
DTSTART:20271107T070000
END:STANDARD
BEGIN:DAYLIGHT
TZOFFSETFROM:-0600
TZOFFSETTO:-0500
TZNAME:CDT
DTSTART:20280312T080000
END:DAYLIGHT
BEGIN:STANDARD
TZOFFSETFROM:-0500
TZOFFSETTO:-0600
TZNAME:CST
DTSTART:20281105T070000
END:STANDARD
BEGIN:DAYLIGHT
TZOFFSETFROM:-0600
TZOFFSETTO:-0500
TZNAME:CDT
DTSTART:20290311T080000
END:DAYLIGHT
BEGIN:STANDARD
TZOFFSETFROM:-0500
TZOFFSETTO:-0600
TZNAME:CST
DTSTART:20291104T070000
END:STANDARD
END:VTIMEZONE
BEGIN:VEVENT
DTSTART;TZID=America/Chicago:20280601T181500
DTEND;TZID=America/Chicago:20280601T201500
DTSTAMP:20260420T141510
CREATED:20250624T064220Z
LAST-MODIFIED:20250624T064220Z
UID:16815089-1843496100-1843503300@www.thewarmplace.org
SUMMARY:S&D III Group
DESCRIPTION:Support group for children ages 5-18 who have experienced the death of a parent. Children must be accompanied by a parent or legal guardian. Families must contact The WARM Place to schedule an intake appointment prior to joining evening groups.
URL:https://www.thewarmplace.org/event/sd-iii-group/2028-06-01/
LOCATION:The WARM Place\, 809 Lipscomb Street\, Fort Worth\, TX\, 76104\, United States
CATEGORIES:Group Nights
GEO:32.7359889;-97.333097
X-APPLE-STRUCTURED-LOCATION;VALUE=URI;X-ADDRESS=The WARM Place 809 Lipscomb Street Fort Worth TX 76104 United States;X-APPLE-RADIUS=500;X-TITLE=809 Lipscomb Street:geo:-97.333097,32.7359889
END:VEVENT
BEGIN:VEVENT
DTSTART;TZID=America/Chicago:20280612T181500
DTEND;TZID=America/Chicago:20280612T201500
DTSTAMP:20260420T141510
CREATED:20250624T055606Z
LAST-MODIFIED:20250624T055606Z
UID:16814606-1844446500-1844453700@www.thewarmplace.org
SUMMARY:Sibling Group
DESCRIPTION:Support group for children ages 5-18 who have experienced the death of a sibling. Children must be accompanied by a parent or legal guardian. Families must contact The WARM Place to schedule an intake appointment prior to joining evening groups.
URL:https://www.thewarmplace.org/event/sibling-group/2028-06-12/
LOCATION:The WARM Place\, 809 Lipscomb Street\, Fort Worth\, TX\, 76104\, United States
CATEGORIES:Group Nights
GEO:32.7359889;-97.333097
X-APPLE-STRUCTURED-LOCATION;VALUE=URI;X-ADDRESS=The WARM Place 809 Lipscomb Street Fort Worth TX 76104 United States;X-APPLE-RADIUS=500;X-TITLE=809 Lipscomb Street:geo:-97.333097,32.7359889
END:VEVENT
BEGIN:VEVENT
DTSTART;TZID=America/Chicago:20280613T173000
DTEND;TZID=America/Chicago:20280613T204500
DTSTAMP:20260420T141510
CREATED:20251104T143010Z
LAST-MODIFIED:20251104T143108Z
UID:16815376-1844530200-1844541900@www.thewarmplace.org
SUMMARY:Virtual Grief Support Group
DESCRIPTION:Virtual support groups for children ages 5-18 who have experienced the death of a loved one. Families must contact The WARM Place to schedule an intake appointment prior to joining group. Sessions last between 30-45 minutes.
URL:https://www.thewarmplace.org/event/virtual-grief-support-group/2028-06-13/
LOCATION:The WARM Place\, 809 Lipscomb Street\, Fort Worth\, TX\, 76104\, United States
CATEGORIES:Virtual Groups
GEO:32.7359889;-97.333097
X-APPLE-STRUCTURED-LOCATION;VALUE=URI;X-ADDRESS=The WARM Place 809 Lipscomb Street Fort Worth TX 76104 United States;X-APPLE-RADIUS=500;X-TITLE=809 Lipscomb Street:geo:-97.333097,32.7359889
END:VEVENT
BEGIN:VEVENT
DTSTART;TZID=America/Chicago:20280613T181500
DTEND;TZID=America/Chicago:20280613T201500
DTSTAMP:20260420T141510
CREATED:20250624T065017Z
LAST-MODIFIED:20250624T065017Z
UID:16814848-1844532900-1844540100@www.thewarmplace.org
SUMMARY:S&D V Group
DESCRIPTION:Support group for children ages 5-18 who have experienced the death of a parent. Children must be accompanied by a parent or legal guardian. Families must contact The WARM Place to schedule an intake appointment prior to joining evening groups.
URL:https://www.thewarmplace.org/event/sd-v-group/2028-06-13/
LOCATION:The WARM Place\, 809 Lipscomb Street\, Fort Worth\, TX\, 76104\, United States
CATEGORIES:Group Nights
GEO:32.7359889;-97.333097
X-APPLE-STRUCTURED-LOCATION;VALUE=URI;X-ADDRESS=The WARM Place 809 Lipscomb Street Fort Worth TX 76104 United States;X-APPLE-RADIUS=500;X-TITLE=809 Lipscomb Street:geo:-97.333097,32.7359889
END:VEVENT
BEGIN:VEVENT
DTSTART;TZID=America/Chicago:20280614T181500
DTEND;TZID=America/Chicago:20280614T201500
DTSTAMP:20260420T141510
CREATED:20250624T064541Z
LAST-MODIFIED:20250624T064541Z
UID:16814969-1844619300-1844626500@www.thewarmplace.org
SUMMARY:S&D IV Group
DESCRIPTION:Support group for children ages 5-18 who have experienced the death of a parent. Children must be accompanied by a parent or legal guardian. Families must contact The WARM Place to schedule an intake appointment prior to joining evening groups.
URL:https://www.thewarmplace.org/event/sd-iv-group/2028-06-14/
LOCATION:TX
CATEGORIES:Group Nights
END:VEVENT
BEGIN:VEVENT
DTSTART;TZID=America/Chicago:20280615T181500
DTEND;TZID=America/Chicago:20280615T201500
DTSTAMP:20260420T141510
CREATED:20250624T064220Z
LAST-MODIFIED:20250624T064220Z
UID:16815090-1844705700-1844712900@www.thewarmplace.org
SUMMARY:S&D III Group
DESCRIPTION:Support group for children ages 5-18 who have experienced the death of a parent. Children must be accompanied by a parent or legal guardian. Families must contact The WARM Place to schedule an intake appointment prior to joining evening groups.
URL:https://www.thewarmplace.org/event/sd-iii-group/2028-06-15/
LOCATION:The WARM Place\, 809 Lipscomb Street\, Fort Worth\, TX\, 76104\, United States
CATEGORIES:Group Nights
GEO:32.7359889;-97.333097
X-APPLE-STRUCTURED-LOCATION;VALUE=URI;X-ADDRESS=The WARM Place 809 Lipscomb Street Fort Worth TX 76104 United States;X-APPLE-RADIUS=500;X-TITLE=809 Lipscomb Street:geo:-97.333097,32.7359889
END:VEVENT
BEGIN:VEVENT
DTSTART;TZID=America/Chicago:20280626T181500
DTEND;TZID=America/Chicago:20280626T201500
DTSTAMP:20260420T141510
CREATED:20250624T055606Z
LAST-MODIFIED:20250624T055606Z
UID:16814607-1845656100-1845663300@www.thewarmplace.org
SUMMARY:Sibling Group
DESCRIPTION:Support group for children ages 5-18 who have experienced the death of a sibling. Children must be accompanied by a parent or legal guardian. Families must contact The WARM Place to schedule an intake appointment prior to joining evening groups.
URL:https://www.thewarmplace.org/event/sibling-group/2028-06-26/
LOCATION:The WARM Place\, 809 Lipscomb Street\, Fort Worth\, TX\, 76104\, United States
CATEGORIES:Group Nights
GEO:32.7359889;-97.333097
X-APPLE-STRUCTURED-LOCATION;VALUE=URI;X-ADDRESS=The WARM Place 809 Lipscomb Street Fort Worth TX 76104 United States;X-APPLE-RADIUS=500;X-TITLE=809 Lipscomb Street:geo:-97.333097,32.7359889
END:VEVENT
BEGIN:VEVENT
DTSTART;TZID=America/Chicago:20280627T173000
DTEND;TZID=America/Chicago:20280627T204500
DTSTAMP:20260420T141510
CREATED:20251104T143010Z
LAST-MODIFIED:20251104T143108Z
UID:16815377-1845739800-1845751500@www.thewarmplace.org
SUMMARY:Virtual Grief Support Group
DESCRIPTION:Virtual support groups for children ages 5-18 who have experienced the death of a loved one. Families must contact The WARM Place to schedule an intake appointment prior to joining group. Sessions last between 30-45 minutes.
URL:https://www.thewarmplace.org/event/virtual-grief-support-group/2028-06-27/
LOCATION:The WARM Place\, 809 Lipscomb Street\, Fort Worth\, TX\, 76104\, United States
CATEGORIES:Virtual Groups
GEO:32.7359889;-97.333097
X-APPLE-STRUCTURED-LOCATION;VALUE=URI;X-ADDRESS=The WARM Place 809 Lipscomb Street Fort Worth TX 76104 United States;X-APPLE-RADIUS=500;X-TITLE=809 Lipscomb Street:geo:-97.333097,32.7359889
END:VEVENT
BEGIN:VEVENT
DTSTART;TZID=America/Chicago:20280627T181500
DTEND;TZID=America/Chicago:20280627T201500
DTSTAMP:20260420T141510
CREATED:20250624T065017Z
LAST-MODIFIED:20250624T065017Z
UID:16814849-1845742500-1845749700@www.thewarmplace.org
SUMMARY:S&D V Group
DESCRIPTION:Support group for children ages 5-18 who have experienced the death of a parent. Children must be accompanied by a parent or legal guardian. Families must contact The WARM Place to schedule an intake appointment prior to joining evening groups.
URL:https://www.thewarmplace.org/event/sd-v-group/2028-06-27/
LOCATION:The WARM Place\, 809 Lipscomb Street\, Fort Worth\, TX\, 76104\, United States
CATEGORIES:Group Nights
GEO:32.7359889;-97.333097
X-APPLE-STRUCTURED-LOCATION;VALUE=URI;X-ADDRESS=The WARM Place 809 Lipscomb Street Fort Worth TX 76104 United States;X-APPLE-RADIUS=500;X-TITLE=809 Lipscomb Street:geo:-97.333097,32.7359889
END:VEVENT
BEGIN:VEVENT
DTSTART;TZID=America/Chicago:20280628T181500
DTEND;TZID=America/Chicago:20280628T201500
DTSTAMP:20260420T141510
CREATED:20250624T064541Z
LAST-MODIFIED:20250624T064541Z
UID:16814970-1845828900-1845836100@www.thewarmplace.org
SUMMARY:S&D IV Group
DESCRIPTION:Support group for children ages 5-18 who have experienced the death of a parent. Children must be accompanied by a parent or legal guardian. Families must contact The WARM Place to schedule an intake appointment prior to joining evening groups.
URL:https://www.thewarmplace.org/event/sd-iv-group/2028-06-28/
LOCATION:TX
CATEGORIES:Group Nights
END:VEVENT
BEGIN:VEVENT
DTSTART;TZID=America/Chicago:20280629T181500
DTEND;TZID=America/Chicago:20280629T201500
DTSTAMP:20260420T141510
CREATED:20250624T064220Z
LAST-MODIFIED:20250624T064220Z
UID:16815091-1845915300-1845922500@www.thewarmplace.org
SUMMARY:S&D III Group
DESCRIPTION:Support group for children ages 5-18 who have experienced the death of a parent. Children must be accompanied by a parent or legal guardian. Families must contact The WARM Place to schedule an intake appointment prior to joining evening groups.
URL:https://www.thewarmplace.org/event/sd-iii-group/2028-06-29/
LOCATION:The WARM Place\, 809 Lipscomb Street\, Fort Worth\, TX\, 76104\, United States
CATEGORIES:Group Nights
GEO:32.7359889;-97.333097
X-APPLE-STRUCTURED-LOCATION;VALUE=URI;X-ADDRESS=The WARM Place 809 Lipscomb Street Fort Worth TX 76104 United States;X-APPLE-RADIUS=500;X-TITLE=809 Lipscomb Street:geo:-97.333097,32.7359889
END:VEVENT
END:VCALENDAR