BEGIN:VCALENDAR
VERSION:2.0
PRODID:-//The WARM Place - ECPv6.15.18//NONSGML v1.0//EN
CALSCALE:GREGORIAN
METHOD:PUBLISH
X-ORIGINAL-URL:https://www.thewarmplace.org
X-WR-CALDESC:Events for The WARM Place
REFRESH-INTERVAL;VALUE=DURATION:PT1H
X-Robots-Tag:noindex
X-PUBLISHED-TTL:PT1H
BEGIN:VTIMEZONE
TZID:America/Chicago
BEGIN:DAYLIGHT
TZOFFSETFROM:-0600
TZOFFSETTO:-0500
TZNAME:CDT
DTSTART:20280312T080000
END:DAYLIGHT
BEGIN:STANDARD
TZOFFSETFROM:-0500
TZOFFSETTO:-0600
TZNAME:CST
DTSTART:20281105T070000
END:STANDARD
BEGIN:DAYLIGHT
TZOFFSETFROM:-0600
TZOFFSETTO:-0500
TZNAME:CDT
DTSTART:20290311T080000
END:DAYLIGHT
BEGIN:STANDARD
TZOFFSETFROM:-0500
TZOFFSETTO:-0600
TZNAME:CST
DTSTART:20291104T070000
END:STANDARD
BEGIN:DAYLIGHT
TZOFFSETFROM:-0600
TZOFFSETTO:-0500
TZNAME:CDT
DTSTART:20300310T080000
END:DAYLIGHT
BEGIN:STANDARD
TZOFFSETFROM:-0500
TZOFFSETTO:-0600
TZNAME:CST
DTSTART:20301103T070000
END:STANDARD
END:VTIMEZONE
BEGIN:VEVENT
DTSTART;TZID=America/Chicago:20290108T181500
DTEND;TZID=America/Chicago:20290108T201500
DTSTAMP:20260421T015608
CREATED:20250624T055606Z
LAST-MODIFIED:20250624T055606Z
UID:16814621-1862590500-1862597700@www.thewarmplace.org
SUMMARY:Sibling Group
DESCRIPTION:Support group for children ages 5-18 who have experienced the death of a sibling. Children must be accompanied by a parent or legal guardian. Families must contact The WARM Place to schedule an intake appointment prior to joining evening groups.
URL:https://www.thewarmplace.org/event/sibling-group/2029-01-08/
LOCATION:The WARM Place\, 809 Lipscomb Street\, Fort Worth\, TX\, 76104\, United States
CATEGORIES:Group Nights
GEO:32.7359889;-97.333097
X-APPLE-STRUCTURED-LOCATION;VALUE=URI;X-ADDRESS=The WARM Place 809 Lipscomb Street Fort Worth TX 76104 United States;X-APPLE-RADIUS=500;X-TITLE=809 Lipscomb Street:geo:-97.333097,32.7359889
END:VEVENT
BEGIN:VEVENT
DTSTART;TZID=America/Chicago:20290109T173000
DTEND;TZID=America/Chicago:20290109T204500
DTSTAMP:20260421T015608
CREATED:20251104T143010Z
LAST-MODIFIED:20251104T143108Z
UID:16815391-1862674200-1862685900@www.thewarmplace.org
SUMMARY:Virtual Grief Support Group
DESCRIPTION:Virtual support groups for children ages 5-18 who have experienced the death of a loved one. Families must contact The WARM Place to schedule an intake appointment prior to joining group. Sessions last between 30-45 minutes.
URL:https://www.thewarmplace.org/event/virtual-grief-support-group/2029-01-09/
LOCATION:The WARM Place\, 809 Lipscomb Street\, Fort Worth\, TX\, 76104\, United States
CATEGORIES:Virtual Groups
GEO:32.7359889;-97.333097
X-APPLE-STRUCTURED-LOCATION;VALUE=URI;X-ADDRESS=The WARM Place 809 Lipscomb Street Fort Worth TX 76104 United States;X-APPLE-RADIUS=500;X-TITLE=809 Lipscomb Street:geo:-97.333097,32.7359889
END:VEVENT
BEGIN:VEVENT
DTSTART;TZID=America/Chicago:20290109T181500
DTEND;TZID=America/Chicago:20290109T201500
DTSTAMP:20260421T015608
CREATED:20250624T065017Z
LAST-MODIFIED:20250624T065017Z
UID:16814863-1862676900-1862684100@www.thewarmplace.org
SUMMARY:S&D V Group
DESCRIPTION:Support group for children ages 5-18 who have experienced the death of a parent. Children must be accompanied by a parent or legal guardian. Families must contact The WARM Place to schedule an intake appointment prior to joining evening groups.
URL:https://www.thewarmplace.org/event/sd-v-group/2029-01-09/
LOCATION:The WARM Place\, 809 Lipscomb Street\, Fort Worth\, TX\, 76104\, United States
CATEGORIES:Group Nights
GEO:32.7359889;-97.333097
X-APPLE-STRUCTURED-LOCATION;VALUE=URI;X-ADDRESS=The WARM Place 809 Lipscomb Street Fort Worth TX 76104 United States;X-APPLE-RADIUS=500;X-TITLE=809 Lipscomb Street:geo:-97.333097,32.7359889
END:VEVENT
BEGIN:VEVENT
DTSTART;TZID=America/Chicago:20290110T181500
DTEND;TZID=America/Chicago:20290110T201500
DTSTAMP:20260421T015608
CREATED:20250624T064541Z
LAST-MODIFIED:20250624T064541Z
UID:16814984-1862763300-1862770500@www.thewarmplace.org
SUMMARY:S&D IV Group
DESCRIPTION:Support group for children ages 5-18 who have experienced the death of a parent. Children must be accompanied by a parent or legal guardian. Families must contact The WARM Place to schedule an intake appointment prior to joining evening groups.
URL:https://www.thewarmplace.org/event/sd-iv-group/2029-01-10/
LOCATION:TX
CATEGORIES:Group Nights
END:VEVENT
BEGIN:VEVENT
DTSTART;TZID=America/Chicago:20290111T181500
DTEND;TZID=America/Chicago:20290111T201500
DTSTAMP:20260421T015608
CREATED:20250624T064220Z
LAST-MODIFIED:20250624T064220Z
UID:16815105-1862849700-1862856900@www.thewarmplace.org
SUMMARY:S&D III Group
DESCRIPTION:Support group for children ages 5-18 who have experienced the death of a parent. Children must be accompanied by a parent or legal guardian. Families must contact The WARM Place to schedule an intake appointment prior to joining evening groups.
URL:https://www.thewarmplace.org/event/sd-iii-group/2029-01-11/
LOCATION:The WARM Place\, 809 Lipscomb Street\, Fort Worth\, TX\, 76104\, United States
CATEGORIES:Group Nights
GEO:32.7359889;-97.333097
X-APPLE-STRUCTURED-LOCATION;VALUE=URI;X-ADDRESS=The WARM Place 809 Lipscomb Street Fort Worth TX 76104 United States;X-APPLE-RADIUS=500;X-TITLE=809 Lipscomb Street:geo:-97.333097,32.7359889
END:VEVENT
BEGIN:VEVENT
DTSTART;TZID=America/Chicago:20290122T181500
DTEND;TZID=America/Chicago:20290122T201500
DTSTAMP:20260421T015608
CREATED:20250624T055606Z
LAST-MODIFIED:20250624T055606Z
UID:16814622-1863800100-1863807300@www.thewarmplace.org
SUMMARY:Sibling Group
DESCRIPTION:Support group for children ages 5-18 who have experienced the death of a sibling. Children must be accompanied by a parent or legal guardian. Families must contact The WARM Place to schedule an intake appointment prior to joining evening groups.
URL:https://www.thewarmplace.org/event/sibling-group/2029-01-22/
LOCATION:The WARM Place\, 809 Lipscomb Street\, Fort Worth\, TX\, 76104\, United States
CATEGORIES:Group Nights
GEO:32.7359889;-97.333097
X-APPLE-STRUCTURED-LOCATION;VALUE=URI;X-ADDRESS=The WARM Place 809 Lipscomb Street Fort Worth TX 76104 United States;X-APPLE-RADIUS=500;X-TITLE=809 Lipscomb Street:geo:-97.333097,32.7359889
END:VEVENT
BEGIN:VEVENT
DTSTART;TZID=America/Chicago:20290123T173000
DTEND;TZID=America/Chicago:20290123T204500
DTSTAMP:20260421T015608
CREATED:20251104T143010Z
LAST-MODIFIED:20251104T143108Z
UID:16815392-1863883800-1863895500@www.thewarmplace.org
SUMMARY:Virtual Grief Support Group
DESCRIPTION:Virtual support groups for children ages 5-18 who have experienced the death of a loved one. Families must contact The WARM Place to schedule an intake appointment prior to joining group. Sessions last between 30-45 minutes.
URL:https://www.thewarmplace.org/event/virtual-grief-support-group/2029-01-23/
LOCATION:The WARM Place\, 809 Lipscomb Street\, Fort Worth\, TX\, 76104\, United States
CATEGORIES:Virtual Groups
GEO:32.7359889;-97.333097
X-APPLE-STRUCTURED-LOCATION;VALUE=URI;X-ADDRESS=The WARM Place 809 Lipscomb Street Fort Worth TX 76104 United States;X-APPLE-RADIUS=500;X-TITLE=809 Lipscomb Street:geo:-97.333097,32.7359889
END:VEVENT
BEGIN:VEVENT
DTSTART;TZID=America/Chicago:20290123T181500
DTEND;TZID=America/Chicago:20290123T201500
DTSTAMP:20260421T015608
CREATED:20250624T065017Z
LAST-MODIFIED:20250624T065017Z
UID:16814864-1863886500-1863893700@www.thewarmplace.org
SUMMARY:S&D V Group
DESCRIPTION:Support group for children ages 5-18 who have experienced the death of a parent. Children must be accompanied by a parent or legal guardian. Families must contact The WARM Place to schedule an intake appointment prior to joining evening groups.
URL:https://www.thewarmplace.org/event/sd-v-group/2029-01-23/
LOCATION:The WARM Place\, 809 Lipscomb Street\, Fort Worth\, TX\, 76104\, United States
CATEGORIES:Group Nights
GEO:32.7359889;-97.333097
X-APPLE-STRUCTURED-LOCATION;VALUE=URI;X-ADDRESS=The WARM Place 809 Lipscomb Street Fort Worth TX 76104 United States;X-APPLE-RADIUS=500;X-TITLE=809 Lipscomb Street:geo:-97.333097,32.7359889
END:VEVENT
BEGIN:VEVENT
DTSTART;TZID=America/Chicago:20290124T181500
DTEND;TZID=America/Chicago:20290124T201500
DTSTAMP:20260421T015608
CREATED:20250624T064541Z
LAST-MODIFIED:20250624T064541Z
UID:16814985-1863972900-1863980100@www.thewarmplace.org
SUMMARY:S&D IV Group
DESCRIPTION:Support group for children ages 5-18 who have experienced the death of a parent. Children must be accompanied by a parent or legal guardian. Families must contact The WARM Place to schedule an intake appointment prior to joining evening groups.
URL:https://www.thewarmplace.org/event/sd-iv-group/2029-01-24/
LOCATION:TX
CATEGORIES:Group Nights
END:VEVENT
BEGIN:VEVENT
DTSTART;TZID=America/Chicago:20290125T181500
DTEND;TZID=America/Chicago:20290125T201500
DTSTAMP:20260421T015608
CREATED:20250624T064220Z
LAST-MODIFIED:20250624T064220Z
UID:16815106-1864059300-1864066500@www.thewarmplace.org
SUMMARY:S&D III Group
DESCRIPTION:Support group for children ages 5-18 who have experienced the death of a parent. Children must be accompanied by a parent or legal guardian. Families must contact The WARM Place to schedule an intake appointment prior to joining evening groups.
URL:https://www.thewarmplace.org/event/sd-iii-group/2029-01-25/
LOCATION:The WARM Place\, 809 Lipscomb Street\, Fort Worth\, TX\, 76104\, United States
CATEGORIES:Group Nights
GEO:32.7359889;-97.333097
X-APPLE-STRUCTURED-LOCATION;VALUE=URI;X-ADDRESS=The WARM Place 809 Lipscomb Street Fort Worth TX 76104 United States;X-APPLE-RADIUS=500;X-TITLE=809 Lipscomb Street:geo:-97.333097,32.7359889
END:VEVENT
END:VCALENDAR