BEGIN:VCALENDAR
VERSION:2.0
PRODID:-//The WARM Place - ECPv6.15.18//NONSGML v1.0//EN
CALSCALE:GREGORIAN
METHOD:PUBLISH
X-ORIGINAL-URL:https://www.thewarmplace.org
X-WR-CALDESC:Events for The WARM Place
REFRESH-INTERVAL;VALUE=DURATION:PT1H
X-Robots-Tag:noindex
X-PUBLISHED-TTL:PT1H
BEGIN:VTIMEZONE
TZID:America/Chicago
BEGIN:DAYLIGHT
TZOFFSETFROM:-0600
TZOFFSETTO:-0500
TZNAME:CDT
DTSTART:20280312T080000
END:DAYLIGHT
BEGIN:STANDARD
TZOFFSETFROM:-0500
TZOFFSETTO:-0600
TZNAME:CST
DTSTART:20281105T070000
END:STANDARD
BEGIN:DAYLIGHT
TZOFFSETFROM:-0600
TZOFFSETTO:-0500
TZNAME:CDT
DTSTART:20290311T080000
END:DAYLIGHT
BEGIN:STANDARD
TZOFFSETFROM:-0500
TZOFFSETTO:-0600
TZNAME:CST
DTSTART:20291104T070000
END:STANDARD
BEGIN:DAYLIGHT
TZOFFSETFROM:-0600
TZOFFSETTO:-0500
TZNAME:CDT
DTSTART:20300310T080000
END:DAYLIGHT
BEGIN:STANDARD
TZOFFSETFROM:-0500
TZOFFSETTO:-0600
TZNAME:CST
DTSTART:20301103T070000
END:STANDARD
END:VTIMEZONE
BEGIN:VEVENT
DTSTART;TZID=America/Chicago:20290205T181500
DTEND;TZID=America/Chicago:20290205T201500
DTSTAMP:20260421T034547
CREATED:20250624T055606Z
LAST-MODIFIED:20250624T055606Z
UID:16814623-1865009700-1865016900@www.thewarmplace.org
SUMMARY:Sibling Group
DESCRIPTION:Support group for children ages 5-18 who have experienced the death of a sibling. Children must be accompanied by a parent or legal guardian. Families must contact The WARM Place to schedule an intake appointment prior to joining evening groups.
URL:https://www.thewarmplace.org/event/sibling-group/2029-02-05/
LOCATION:The WARM Place\, 809 Lipscomb Street\, Fort Worth\, TX\, 76104\, United States
CATEGORIES:Group Nights
GEO:32.7359889;-97.333097
X-APPLE-STRUCTURED-LOCATION;VALUE=URI;X-ADDRESS=The WARM Place 809 Lipscomb Street Fort Worth TX 76104 United States;X-APPLE-RADIUS=500;X-TITLE=809 Lipscomb Street:geo:-97.333097,32.7359889
END:VEVENT
BEGIN:VEVENT
DTSTART;TZID=America/Chicago:20290206T173000
DTEND;TZID=America/Chicago:20290206T204500
DTSTAMP:20260421T034547
CREATED:20251104T143010Z
LAST-MODIFIED:20251104T143108Z
UID:16815393-1865093400-1865105100@www.thewarmplace.org
SUMMARY:Virtual Grief Support Group
DESCRIPTION:Virtual support groups for children ages 5-18 who have experienced the death of a loved one. Families must contact The WARM Place to schedule an intake appointment prior to joining group. Sessions last between 30-45 minutes.
URL:https://www.thewarmplace.org/event/virtual-grief-support-group/2029-02-06/
LOCATION:The WARM Place\, 809 Lipscomb Street\, Fort Worth\, TX\, 76104\, United States
CATEGORIES:Virtual Groups
GEO:32.7359889;-97.333097
X-APPLE-STRUCTURED-LOCATION;VALUE=URI;X-ADDRESS=The WARM Place 809 Lipscomb Street Fort Worth TX 76104 United States;X-APPLE-RADIUS=500;X-TITLE=809 Lipscomb Street:geo:-97.333097,32.7359889
END:VEVENT
BEGIN:VEVENT
DTSTART;TZID=America/Chicago:20290206T181500
DTEND;TZID=America/Chicago:20290206T201500
DTSTAMP:20260421T034547
CREATED:20250624T065017Z
LAST-MODIFIED:20250624T065017Z
UID:16814865-1865096100-1865103300@www.thewarmplace.org
SUMMARY:S&D V Group
DESCRIPTION:Support group for children ages 5-18 who have experienced the death of a parent. Children must be accompanied by a parent or legal guardian. Families must contact The WARM Place to schedule an intake appointment prior to joining evening groups.
URL:https://www.thewarmplace.org/event/sd-v-group/2029-02-06/
LOCATION:The WARM Place\, 809 Lipscomb Street\, Fort Worth\, TX\, 76104\, United States
CATEGORIES:Group Nights
GEO:32.7359889;-97.333097
X-APPLE-STRUCTURED-LOCATION;VALUE=URI;X-ADDRESS=The WARM Place 809 Lipscomb Street Fort Worth TX 76104 United States;X-APPLE-RADIUS=500;X-TITLE=809 Lipscomb Street:geo:-97.333097,32.7359889
END:VEVENT
BEGIN:VEVENT
DTSTART;TZID=America/Chicago:20290207T181500
DTEND;TZID=America/Chicago:20290207T201500
DTSTAMP:20260421T034547
CREATED:20250624T064541Z
LAST-MODIFIED:20250624T064541Z
UID:16814986-1865182500-1865189700@www.thewarmplace.org
SUMMARY:S&D IV Group
DESCRIPTION:Support group for children ages 5-18 who have experienced the death of a parent. Children must be accompanied by a parent or legal guardian. Families must contact The WARM Place to schedule an intake appointment prior to joining evening groups.
URL:https://www.thewarmplace.org/event/sd-iv-group/2029-02-07/
LOCATION:TX
CATEGORIES:Group Nights
END:VEVENT
BEGIN:VEVENT
DTSTART;TZID=America/Chicago:20290208T181500
DTEND;TZID=America/Chicago:20290208T201500
DTSTAMP:20260421T034547
CREATED:20250624T064220Z
LAST-MODIFIED:20250624T064220Z
UID:16815107-1865268900-1865276100@www.thewarmplace.org
SUMMARY:S&D III Group
DESCRIPTION:Support group for children ages 5-18 who have experienced the death of a parent. Children must be accompanied by a parent or legal guardian. Families must contact The WARM Place to schedule an intake appointment prior to joining evening groups.
URL:https://www.thewarmplace.org/event/sd-iii-group/2029-02-08/
LOCATION:The WARM Place\, 809 Lipscomb Street\, Fort Worth\, TX\, 76104\, United States
CATEGORIES:Group Nights
GEO:32.7359889;-97.333097
X-APPLE-STRUCTURED-LOCATION;VALUE=URI;X-ADDRESS=The WARM Place 809 Lipscomb Street Fort Worth TX 76104 United States;X-APPLE-RADIUS=500;X-TITLE=809 Lipscomb Street:geo:-97.333097,32.7359889
END:VEVENT
BEGIN:VEVENT
DTSTART;TZID=America/Chicago:20290219T181500
DTEND;TZID=America/Chicago:20290219T201500
DTSTAMP:20260421T034547
CREATED:20250624T055606Z
LAST-MODIFIED:20250624T055606Z
UID:16814624-1866219300-1866226500@www.thewarmplace.org
SUMMARY:Sibling Group
DESCRIPTION:Support group for children ages 5-18 who have experienced the death of a sibling. Children must be accompanied by a parent or legal guardian. Families must contact The WARM Place to schedule an intake appointment prior to joining evening groups.
URL:https://www.thewarmplace.org/event/sibling-group/2029-02-19/
LOCATION:The WARM Place\, 809 Lipscomb Street\, Fort Worth\, TX\, 76104\, United States
CATEGORIES:Group Nights
GEO:32.7359889;-97.333097
X-APPLE-STRUCTURED-LOCATION;VALUE=URI;X-ADDRESS=The WARM Place 809 Lipscomb Street Fort Worth TX 76104 United States;X-APPLE-RADIUS=500;X-TITLE=809 Lipscomb Street:geo:-97.333097,32.7359889
END:VEVENT
BEGIN:VEVENT
DTSTART;TZID=America/Chicago:20290220T173000
DTEND;TZID=America/Chicago:20290220T204500
DTSTAMP:20260421T034547
CREATED:20251104T143010Z
LAST-MODIFIED:20251104T143108Z
UID:16815394-1866303000-1866314700@www.thewarmplace.org
SUMMARY:Virtual Grief Support Group
DESCRIPTION:Virtual support groups for children ages 5-18 who have experienced the death of a loved one. Families must contact The WARM Place to schedule an intake appointment prior to joining group. Sessions last between 30-45 minutes.
URL:https://www.thewarmplace.org/event/virtual-grief-support-group/2029-02-20/
LOCATION:The WARM Place\, 809 Lipscomb Street\, Fort Worth\, TX\, 76104\, United States
CATEGORIES:Virtual Groups
GEO:32.7359889;-97.333097
X-APPLE-STRUCTURED-LOCATION;VALUE=URI;X-ADDRESS=The WARM Place 809 Lipscomb Street Fort Worth TX 76104 United States;X-APPLE-RADIUS=500;X-TITLE=809 Lipscomb Street:geo:-97.333097,32.7359889
END:VEVENT
BEGIN:VEVENT
DTSTART;TZID=America/Chicago:20290220T181500
DTEND;TZID=America/Chicago:20290220T201500
DTSTAMP:20260421T034547
CREATED:20250624T065017Z
LAST-MODIFIED:20250624T065017Z
UID:16814866-1866305700-1866312900@www.thewarmplace.org
SUMMARY:S&D V Group
DESCRIPTION:Support group for children ages 5-18 who have experienced the death of a parent. Children must be accompanied by a parent or legal guardian. Families must contact The WARM Place to schedule an intake appointment prior to joining evening groups.
URL:https://www.thewarmplace.org/event/sd-v-group/2029-02-20/
LOCATION:The WARM Place\, 809 Lipscomb Street\, Fort Worth\, TX\, 76104\, United States
CATEGORIES:Group Nights
GEO:32.7359889;-97.333097
X-APPLE-STRUCTURED-LOCATION;VALUE=URI;X-ADDRESS=The WARM Place 809 Lipscomb Street Fort Worth TX 76104 United States;X-APPLE-RADIUS=500;X-TITLE=809 Lipscomb Street:geo:-97.333097,32.7359889
END:VEVENT
BEGIN:VEVENT
DTSTART;TZID=America/Chicago:20290221T181500
DTEND;TZID=America/Chicago:20290221T201500
DTSTAMP:20260421T034547
CREATED:20250624T064541Z
LAST-MODIFIED:20250624T064541Z
UID:16814987-1866392100-1866399300@www.thewarmplace.org
SUMMARY:S&D IV Group
DESCRIPTION:Support group for children ages 5-18 who have experienced the death of a parent. Children must be accompanied by a parent or legal guardian. Families must contact The WARM Place to schedule an intake appointment prior to joining evening groups.
URL:https://www.thewarmplace.org/event/sd-iv-group/2029-02-21/
LOCATION:TX
CATEGORIES:Group Nights
END:VEVENT
BEGIN:VEVENT
DTSTART;TZID=America/Chicago:20290222T181500
DTEND;TZID=America/Chicago:20290222T201500
DTSTAMP:20260421T034547
CREATED:20250624T064220Z
LAST-MODIFIED:20250624T064220Z
UID:16815108-1866478500-1866485700@www.thewarmplace.org
SUMMARY:S&D III Group
DESCRIPTION:Support group for children ages 5-18 who have experienced the death of a parent. Children must be accompanied by a parent or legal guardian. Families must contact The WARM Place to schedule an intake appointment prior to joining evening groups.
URL:https://www.thewarmplace.org/event/sd-iii-group/2029-02-22/
LOCATION:The WARM Place\, 809 Lipscomb Street\, Fort Worth\, TX\, 76104\, United States
CATEGORIES:Group Nights
GEO:32.7359889;-97.333097
X-APPLE-STRUCTURED-LOCATION;VALUE=URI;X-ADDRESS=The WARM Place 809 Lipscomb Street Fort Worth TX 76104 United States;X-APPLE-RADIUS=500;X-TITLE=809 Lipscomb Street:geo:-97.333097,32.7359889
END:VEVENT
END:VCALENDAR