BEGIN:VCALENDAR
VERSION:2.0
PRODID:-//The WARM Place - ECPv6.15.18//NONSGML v1.0//EN
CALSCALE:GREGORIAN
METHOD:PUBLISH
X-ORIGINAL-URL:https://www.thewarmplace.org
X-WR-CALDESC:Events for The WARM Place
REFRESH-INTERVAL;VALUE=DURATION:PT1H
X-Robots-Tag:noindex
X-PUBLISHED-TTL:PT1H
BEGIN:VTIMEZONE
TZID:America/Chicago
BEGIN:DAYLIGHT
TZOFFSETFROM:-0600
TZOFFSETTO:-0500
TZNAME:CDT
DTSTART:20280312T080000
END:DAYLIGHT
BEGIN:STANDARD
TZOFFSETFROM:-0500
TZOFFSETTO:-0600
TZNAME:CST
DTSTART:20281105T070000
END:STANDARD
BEGIN:DAYLIGHT
TZOFFSETFROM:-0600
TZOFFSETTO:-0500
TZNAME:CDT
DTSTART:20290311T080000
END:DAYLIGHT
BEGIN:STANDARD
TZOFFSETFROM:-0500
TZOFFSETTO:-0600
TZNAME:CST
DTSTART:20291104T070000
END:STANDARD
BEGIN:DAYLIGHT
TZOFFSETFROM:-0600
TZOFFSETTO:-0500
TZNAME:CDT
DTSTART:20300310T080000
END:DAYLIGHT
BEGIN:STANDARD
TZOFFSETFROM:-0500
TZOFFSETTO:-0600
TZNAME:CST
DTSTART:20301103T070000
END:STANDARD
END:VTIMEZONE
BEGIN:VEVENT
DTSTART;TZID=America/Chicago:20290611T181500
DTEND;TZID=America/Chicago:20290611T201500
DTSTAMP:20260421T101241
CREATED:20250624T055606Z
LAST-MODIFIED:20250624T055606Z
UID:16814632-1875896100-1875903300@www.thewarmplace.org
SUMMARY:Sibling Group
DESCRIPTION:Support group for children ages 5-18 who have experienced the death of a sibling. Children must be accompanied by a parent or legal guardian. Families must contact The WARM Place to schedule an intake appointment prior to joining evening groups.
URL:https://www.thewarmplace.org/event/sibling-group/2029-06-11/
LOCATION:The WARM Place\, 809 Lipscomb Street\, Fort Worth\, TX\, 76104\, United States
CATEGORIES:Group Nights
GEO:32.7359889;-97.333097
X-APPLE-STRUCTURED-LOCATION;VALUE=URI;X-ADDRESS=The WARM Place 809 Lipscomb Street Fort Worth TX 76104 United States;X-APPLE-RADIUS=500;X-TITLE=809 Lipscomb Street:geo:-97.333097,32.7359889
END:VEVENT
BEGIN:VEVENT
DTSTART;TZID=America/Chicago:20290612T173000
DTEND;TZID=America/Chicago:20290612T204500
DTSTAMP:20260421T101241
CREATED:20251104T143010Z
LAST-MODIFIED:20251104T143108Z
UID:16815402-1875979800-1875991500@www.thewarmplace.org
SUMMARY:Virtual Grief Support Group
DESCRIPTION:Virtual support groups for children ages 5-18 who have experienced the death of a loved one. Families must contact The WARM Place to schedule an intake appointment prior to joining group. Sessions last between 30-45 minutes.
URL:https://www.thewarmplace.org/event/virtual-grief-support-group/2029-06-12/
LOCATION:The WARM Place\, 809 Lipscomb Street\, Fort Worth\, TX\, 76104\, United States
CATEGORIES:Virtual Groups
GEO:32.7359889;-97.333097
X-APPLE-STRUCTURED-LOCATION;VALUE=URI;X-ADDRESS=The WARM Place 809 Lipscomb Street Fort Worth TX 76104 United States;X-APPLE-RADIUS=500;X-TITLE=809 Lipscomb Street:geo:-97.333097,32.7359889
END:VEVENT
BEGIN:VEVENT
DTSTART;TZID=America/Chicago:20290612T181500
DTEND;TZID=America/Chicago:20290612T201500
DTSTAMP:20260421T101241
CREATED:20250624T065017Z
LAST-MODIFIED:20250624T065017Z
UID:16814874-1875982500-1875989700@www.thewarmplace.org
SUMMARY:S&D V Group
DESCRIPTION:Support group for children ages 5-18 who have experienced the death of a parent. Children must be accompanied by a parent or legal guardian. Families must contact The WARM Place to schedule an intake appointment prior to joining evening groups.
URL:https://www.thewarmplace.org/event/sd-v-group/2029-06-12/
LOCATION:The WARM Place\, 809 Lipscomb Street\, Fort Worth\, TX\, 76104\, United States
CATEGORIES:Group Nights
GEO:32.7359889;-97.333097
X-APPLE-STRUCTURED-LOCATION;VALUE=URI;X-ADDRESS=The WARM Place 809 Lipscomb Street Fort Worth TX 76104 United States;X-APPLE-RADIUS=500;X-TITLE=809 Lipscomb Street:geo:-97.333097,32.7359889
END:VEVENT
BEGIN:VEVENT
DTSTART;TZID=America/Chicago:20290613T181500
DTEND;TZID=America/Chicago:20290613T201500
DTSTAMP:20260421T101241
CREATED:20250624T064541Z
LAST-MODIFIED:20250624T064541Z
UID:16814995-1876068900-1876076100@www.thewarmplace.org
SUMMARY:S&D IV Group
DESCRIPTION:Support group for children ages 5-18 who have experienced the death of a parent. Children must be accompanied by a parent or legal guardian. Families must contact The WARM Place to schedule an intake appointment prior to joining evening groups.
URL:https://www.thewarmplace.org/event/sd-iv-group/2029-06-13/
LOCATION:TX
CATEGORIES:Group Nights
END:VEVENT
BEGIN:VEVENT
DTSTART;TZID=America/Chicago:20290614T181500
DTEND;TZID=America/Chicago:20290614T201500
DTSTAMP:20260421T101241
CREATED:20250624T064220Z
LAST-MODIFIED:20250624T064220Z
UID:16815116-1876155300-1876162500@www.thewarmplace.org
SUMMARY:S&D III Group
DESCRIPTION:Support group for children ages 5-18 who have experienced the death of a parent. Children must be accompanied by a parent or legal guardian. Families must contact The WARM Place to schedule an intake appointment prior to joining evening groups.
URL:https://www.thewarmplace.org/event/sd-iii-group/2029-06-14/
LOCATION:The WARM Place\, 809 Lipscomb Street\, Fort Worth\, TX\, 76104\, United States
CATEGORIES:Group Nights
GEO:32.7359889;-97.333097
X-APPLE-STRUCTURED-LOCATION;VALUE=URI;X-ADDRESS=The WARM Place 809 Lipscomb Street Fort Worth TX 76104 United States;X-APPLE-RADIUS=500;X-TITLE=809 Lipscomb Street:geo:-97.333097,32.7359889
END:VEVENT
BEGIN:VEVENT
DTSTART;TZID=America/Chicago:20290625T181500
DTEND;TZID=America/Chicago:20290625T201500
DTSTAMP:20260421T101241
CREATED:20250624T055606Z
LAST-MODIFIED:20250624T055606Z
UID:16814633-1877105700-1877112900@www.thewarmplace.org
SUMMARY:Sibling Group
DESCRIPTION:Support group for children ages 5-18 who have experienced the death of a sibling. Children must be accompanied by a parent or legal guardian. Families must contact The WARM Place to schedule an intake appointment prior to joining evening groups.
URL:https://www.thewarmplace.org/event/sibling-group/2029-06-25/
LOCATION:The WARM Place\, 809 Lipscomb Street\, Fort Worth\, TX\, 76104\, United States
CATEGORIES:Group Nights
GEO:32.7359889;-97.333097
X-APPLE-STRUCTURED-LOCATION;VALUE=URI;X-ADDRESS=The WARM Place 809 Lipscomb Street Fort Worth TX 76104 United States;X-APPLE-RADIUS=500;X-TITLE=809 Lipscomb Street:geo:-97.333097,32.7359889
END:VEVENT
BEGIN:VEVENT
DTSTART;TZID=America/Chicago:20290626T173000
DTEND;TZID=America/Chicago:20290626T204500
DTSTAMP:20260421T101241
CREATED:20251104T143010Z
LAST-MODIFIED:20251104T143108Z
UID:16815403-1877189400-1877201100@www.thewarmplace.org
SUMMARY:Virtual Grief Support Group
DESCRIPTION:Virtual support groups for children ages 5-18 who have experienced the death of a loved one. Families must contact The WARM Place to schedule an intake appointment prior to joining group. Sessions last between 30-45 minutes.
URL:https://www.thewarmplace.org/event/virtual-grief-support-group/2029-06-26/
LOCATION:The WARM Place\, 809 Lipscomb Street\, Fort Worth\, TX\, 76104\, United States
CATEGORIES:Virtual Groups
GEO:32.7359889;-97.333097
X-APPLE-STRUCTURED-LOCATION;VALUE=URI;X-ADDRESS=The WARM Place 809 Lipscomb Street Fort Worth TX 76104 United States;X-APPLE-RADIUS=500;X-TITLE=809 Lipscomb Street:geo:-97.333097,32.7359889
END:VEVENT
BEGIN:VEVENT
DTSTART;TZID=America/Chicago:20290626T181500
DTEND;TZID=America/Chicago:20290626T201500
DTSTAMP:20260421T101241
CREATED:20250624T065017Z
LAST-MODIFIED:20250624T065017Z
UID:16814875-1877192100-1877199300@www.thewarmplace.org
SUMMARY:S&D V Group
DESCRIPTION:Support group for children ages 5-18 who have experienced the death of a parent. Children must be accompanied by a parent or legal guardian. Families must contact The WARM Place to schedule an intake appointment prior to joining evening groups.
URL:https://www.thewarmplace.org/event/sd-v-group/2029-06-26/
LOCATION:The WARM Place\, 809 Lipscomb Street\, Fort Worth\, TX\, 76104\, United States
CATEGORIES:Group Nights
GEO:32.7359889;-97.333097
X-APPLE-STRUCTURED-LOCATION;VALUE=URI;X-ADDRESS=The WARM Place 809 Lipscomb Street Fort Worth TX 76104 United States;X-APPLE-RADIUS=500;X-TITLE=809 Lipscomb Street:geo:-97.333097,32.7359889
END:VEVENT
BEGIN:VEVENT
DTSTART;TZID=America/Chicago:20290627T181500
DTEND;TZID=America/Chicago:20290627T201500
DTSTAMP:20260421T101241
CREATED:20250624T064541Z
LAST-MODIFIED:20250624T064541Z
UID:16814996-1877278500-1877285700@www.thewarmplace.org
SUMMARY:S&D IV Group
DESCRIPTION:Support group for children ages 5-18 who have experienced the death of a parent. Children must be accompanied by a parent or legal guardian. Families must contact The WARM Place to schedule an intake appointment prior to joining evening groups.
URL:https://www.thewarmplace.org/event/sd-iv-group/2029-06-27/
LOCATION:TX
CATEGORIES:Group Nights
END:VEVENT
BEGIN:VEVENT
DTSTART;TZID=America/Chicago:20290628T181500
DTEND;TZID=America/Chicago:20290628T201500
DTSTAMP:20260421T101241
CREATED:20250624T064220Z
LAST-MODIFIED:20250624T064220Z
UID:16815117-1877364900-1877372100@www.thewarmplace.org
SUMMARY:S&D III Group
DESCRIPTION:Support group for children ages 5-18 who have experienced the death of a parent. Children must be accompanied by a parent or legal guardian. Families must contact The WARM Place to schedule an intake appointment prior to joining evening groups.
URL:https://www.thewarmplace.org/event/sd-iii-group/2029-06-28/
LOCATION:The WARM Place\, 809 Lipscomb Street\, Fort Worth\, TX\, 76104\, United States
CATEGORIES:Group Nights
GEO:32.7359889;-97.333097
X-APPLE-STRUCTURED-LOCATION;VALUE=URI;X-ADDRESS=The WARM Place 809 Lipscomb Street Fort Worth TX 76104 United States;X-APPLE-RADIUS=500;X-TITLE=809 Lipscomb Street:geo:-97.333097,32.7359889
END:VEVENT
END:VCALENDAR