BEGIN:VCALENDAR
VERSION:2.0
PRODID:-//The WARM Place - ECPv6.15.18//NONSGML v1.0//EN
CALSCALE:GREGORIAN
METHOD:PUBLISH
X-WR-CALNAME:The WARM Place
X-ORIGINAL-URL:https://www.thewarmplace.org
X-WR-CALDESC:Events for The WARM Place
REFRESH-INTERVAL;VALUE=DURATION:PT1H
X-Robots-Tag:noindex
X-PUBLISHED-TTL:PT1H
BEGIN:VTIMEZONE
TZID:America/Chicago
BEGIN:DAYLIGHT
TZOFFSETFROM:-0600
TZOFFSETTO:-0500
TZNAME:CDT
DTSTART:20270314T080000
END:DAYLIGHT
BEGIN:STANDARD
TZOFFSETFROM:-0500
TZOFFSETTO:-0600
TZNAME:CST
DTSTART:20271107T070000
END:STANDARD
BEGIN:DAYLIGHT
TZOFFSETFROM:-0600
TZOFFSETTO:-0500
TZNAME:CDT
DTSTART:20280312T080000
END:DAYLIGHT
BEGIN:STANDARD
TZOFFSETFROM:-0500
TZOFFSETTO:-0600
TZNAME:CST
DTSTART:20281105T070000
END:STANDARD
BEGIN:DAYLIGHT
TZOFFSETFROM:-0600
TZOFFSETTO:-0500
TZNAME:CDT
DTSTART:20290311T080000
END:DAYLIGHT
BEGIN:STANDARD
TZOFFSETFROM:-0500
TZOFFSETTO:-0600
TZNAME:CST
DTSTART:20291104T070000
END:STANDARD
BEGIN:DAYLIGHT
TZOFFSETFROM:-0600
TZOFFSETTO:-0500
TZNAME:CDT
DTSTART:20300310T080000
END:DAYLIGHT
BEGIN:STANDARD
TZOFFSETFROM:-0500
TZOFFSETTO:-0600
TZNAME:CST
DTSTART:20301103T070000
END:STANDARD
END:VTIMEZONE
BEGIN:VEVENT
DTSTART;TZID=America/Chicago:20281005T181500
DTEND;TZID=America/Chicago:20281005T201500
DTSTAMP:20260421T004250
CREATED:20250624T064220Z
LAST-MODIFIED:20250624T064220Z
UID:16815098-1854382500-1854389700@www.thewarmplace.org
SUMMARY:S&D III Group
DESCRIPTION:Support group for children ages 5-18 who have experienced the death of a parent. Children must be accompanied by a parent or legal guardian. Families must contact The WARM Place to schedule an intake appointment prior to joining evening groups.
URL:https://www.thewarmplace.org/event/sd-iii-group/2028-10-05/
LOCATION:The WARM Place\, 809 Lipscomb Street\, Fort Worth\, TX\, 76104\, United States
CATEGORIES:Group Nights
GEO:32.7359889;-97.333097
X-APPLE-STRUCTURED-LOCATION;VALUE=URI;X-ADDRESS=The WARM Place 809 Lipscomb Street Fort Worth TX 76104 United States;X-APPLE-RADIUS=500;X-TITLE=809 Lipscomb Street:geo:-97.333097,32.7359889
END:VEVENT
BEGIN:VEVENT
DTSTART;TZID=America/Chicago:20281019T181500
DTEND;TZID=America/Chicago:20281019T201500
DTSTAMP:20260421T004250
CREATED:20250624T064220Z
LAST-MODIFIED:20250624T064220Z
UID:16815099-1855592100-1855599300@www.thewarmplace.org
SUMMARY:S&D III Group
DESCRIPTION:Support group for children ages 5-18 who have experienced the death of a parent. Children must be accompanied by a parent or legal guardian. Families must contact The WARM Place to schedule an intake appointment prior to joining evening groups.
URL:https://www.thewarmplace.org/event/sd-iii-group/2028-10-19/
LOCATION:The WARM Place\, 809 Lipscomb Street\, Fort Worth\, TX\, 76104\, United States
CATEGORIES:Group Nights
GEO:32.7359889;-97.333097
X-APPLE-STRUCTURED-LOCATION;VALUE=URI;X-ADDRESS=The WARM Place 809 Lipscomb Street Fort Worth TX 76104 United States;X-APPLE-RADIUS=500;X-TITLE=809 Lipscomb Street:geo:-97.333097,32.7359889
END:VEVENT
BEGIN:VEVENT
DTSTART;TZID=America/Chicago:20281102T181500
DTEND;TZID=America/Chicago:20281102T201500
DTSTAMP:20260421T004250
CREATED:20250624T064220Z
LAST-MODIFIED:20250624T064220Z
UID:16815100-1856801700-1856808900@www.thewarmplace.org
SUMMARY:S&D III Group
DESCRIPTION:Support group for children ages 5-18 who have experienced the death of a parent. Children must be accompanied by a parent or legal guardian. Families must contact The WARM Place to schedule an intake appointment prior to joining evening groups.
URL:https://www.thewarmplace.org/event/sd-iii-group/2028-11-02/
LOCATION:The WARM Place\, 809 Lipscomb Street\, Fort Worth\, TX\, 76104\, United States
CATEGORIES:Group Nights
GEO:32.7359889;-97.333097
X-APPLE-STRUCTURED-LOCATION;VALUE=URI;X-ADDRESS=The WARM Place 809 Lipscomb Street Fort Worth TX 76104 United States;X-APPLE-RADIUS=500;X-TITLE=809 Lipscomb Street:geo:-97.333097,32.7359889
END:VEVENT
BEGIN:VEVENT
DTSTART;TZID=America/Chicago:20281116T181500
DTEND;TZID=America/Chicago:20281116T201500
DTSTAMP:20260421T004250
CREATED:20250624T064220Z
LAST-MODIFIED:20250624T064220Z
UID:16815101-1858011300-1858018500@www.thewarmplace.org
SUMMARY:S&D III Group
DESCRIPTION:Support group for children ages 5-18 who have experienced the death of a parent. Children must be accompanied by a parent or legal guardian. Families must contact The WARM Place to schedule an intake appointment prior to joining evening groups.
URL:https://www.thewarmplace.org/event/sd-iii-group/2028-11-16/
LOCATION:The WARM Place\, 809 Lipscomb Street\, Fort Worth\, TX\, 76104\, United States
CATEGORIES:Group Nights
GEO:32.7359889;-97.333097
X-APPLE-STRUCTURED-LOCATION;VALUE=URI;X-ADDRESS=The WARM Place 809 Lipscomb Street Fort Worth TX 76104 United States;X-APPLE-RADIUS=500;X-TITLE=809 Lipscomb Street:geo:-97.333097,32.7359889
END:VEVENT
BEGIN:VEVENT
DTSTART;TZID=America/Chicago:20281130T181500
DTEND;TZID=America/Chicago:20281130T201500
DTSTAMP:20260421T004250
CREATED:20250624T064220Z
LAST-MODIFIED:20250624T064220Z
UID:16815102-1859220900-1859228100@www.thewarmplace.org
SUMMARY:S&D III Group
DESCRIPTION:Support group for children ages 5-18 who have experienced the death of a parent. Children must be accompanied by a parent or legal guardian. Families must contact The WARM Place to schedule an intake appointment prior to joining evening groups.
URL:https://www.thewarmplace.org/event/sd-iii-group/2028-11-30/
LOCATION:The WARM Place\, 809 Lipscomb Street\, Fort Worth\, TX\, 76104\, United States
CATEGORIES:Group Nights
GEO:32.7359889;-97.333097
X-APPLE-STRUCTURED-LOCATION;VALUE=URI;X-ADDRESS=The WARM Place 809 Lipscomb Street Fort Worth TX 76104 United States;X-APPLE-RADIUS=500;X-TITLE=809 Lipscomb Street:geo:-97.333097,32.7359889
END:VEVENT
BEGIN:VEVENT
DTSTART;TZID=America/Chicago:20281214T181500
DTEND;TZID=America/Chicago:20281214T201500
DTSTAMP:20260421T004250
CREATED:20250624T064220Z
LAST-MODIFIED:20250624T064220Z
UID:16815103-1860430500-1860437700@www.thewarmplace.org
SUMMARY:S&D III Group
DESCRIPTION:Support group for children ages 5-18 who have experienced the death of a parent. Children must be accompanied by a parent or legal guardian. Families must contact The WARM Place to schedule an intake appointment prior to joining evening groups.
URL:https://www.thewarmplace.org/event/sd-iii-group/2028-12-14/
LOCATION:The WARM Place\, 809 Lipscomb Street\, Fort Worth\, TX\, 76104\, United States
CATEGORIES:Group Nights
GEO:32.7359889;-97.333097
X-APPLE-STRUCTURED-LOCATION;VALUE=URI;X-ADDRESS=The WARM Place 809 Lipscomb Street Fort Worth TX 76104 United States;X-APPLE-RADIUS=500;X-TITLE=809 Lipscomb Street:geo:-97.333097,32.7359889
END:VEVENT
BEGIN:VEVENT
DTSTART;TZID=America/Chicago:20281228T181500
DTEND;TZID=America/Chicago:20281228T201500
DTSTAMP:20260421T004250
CREATED:20250624T064220Z
LAST-MODIFIED:20250624T064220Z
UID:16815104-1861640100-1861647300@www.thewarmplace.org
SUMMARY:S&D III Group
DESCRIPTION:Support group for children ages 5-18 who have experienced the death of a parent. Children must be accompanied by a parent or legal guardian. Families must contact The WARM Place to schedule an intake appointment prior to joining evening groups.
URL:https://www.thewarmplace.org/event/sd-iii-group/2028-12-28/
LOCATION:The WARM Place\, 809 Lipscomb Street\, Fort Worth\, TX\, 76104\, United States
CATEGORIES:Group Nights
GEO:32.7359889;-97.333097
X-APPLE-STRUCTURED-LOCATION;VALUE=URI;X-ADDRESS=The WARM Place 809 Lipscomb Street Fort Worth TX 76104 United States;X-APPLE-RADIUS=500;X-TITLE=809 Lipscomb Street:geo:-97.333097,32.7359889
END:VEVENT
BEGIN:VEVENT
DTSTART;TZID=America/Chicago:20290111T181500
DTEND;TZID=America/Chicago:20290111T201500
DTSTAMP:20260421T004250
CREATED:20250624T064220Z
LAST-MODIFIED:20250624T064220Z
UID:16815105-1862849700-1862856900@www.thewarmplace.org
SUMMARY:S&D III Group
DESCRIPTION:Support group for children ages 5-18 who have experienced the death of a parent. Children must be accompanied by a parent or legal guardian. Families must contact The WARM Place to schedule an intake appointment prior to joining evening groups.
URL:https://www.thewarmplace.org/event/sd-iii-group/2029-01-11/
LOCATION:The WARM Place\, 809 Lipscomb Street\, Fort Worth\, TX\, 76104\, United States
CATEGORIES:Group Nights
GEO:32.7359889;-97.333097
X-APPLE-STRUCTURED-LOCATION;VALUE=URI;X-ADDRESS=The WARM Place 809 Lipscomb Street Fort Worth TX 76104 United States;X-APPLE-RADIUS=500;X-TITLE=809 Lipscomb Street:geo:-97.333097,32.7359889
END:VEVENT
BEGIN:VEVENT
DTSTART;TZID=America/Chicago:20290125T181500
DTEND;TZID=America/Chicago:20290125T201500
DTSTAMP:20260421T004250
CREATED:20250624T064220Z
LAST-MODIFIED:20250624T064220Z
UID:16815106-1864059300-1864066500@www.thewarmplace.org
SUMMARY:S&D III Group
DESCRIPTION:Support group for children ages 5-18 who have experienced the death of a parent. Children must be accompanied by a parent or legal guardian. Families must contact The WARM Place to schedule an intake appointment prior to joining evening groups.
URL:https://www.thewarmplace.org/event/sd-iii-group/2029-01-25/
LOCATION:The WARM Place\, 809 Lipscomb Street\, Fort Worth\, TX\, 76104\, United States
CATEGORIES:Group Nights
GEO:32.7359889;-97.333097
X-APPLE-STRUCTURED-LOCATION;VALUE=URI;X-ADDRESS=The WARM Place 809 Lipscomb Street Fort Worth TX 76104 United States;X-APPLE-RADIUS=500;X-TITLE=809 Lipscomb Street:geo:-97.333097,32.7359889
END:VEVENT
BEGIN:VEVENT
DTSTART;TZID=America/Chicago:20290208T181500
DTEND;TZID=America/Chicago:20290208T201500
DTSTAMP:20260421T004250
CREATED:20250624T064220Z
LAST-MODIFIED:20250624T064220Z
UID:16815107-1865268900-1865276100@www.thewarmplace.org
SUMMARY:S&D III Group
DESCRIPTION:Support group for children ages 5-18 who have experienced the death of a parent. Children must be accompanied by a parent or legal guardian. Families must contact The WARM Place to schedule an intake appointment prior to joining evening groups.
URL:https://www.thewarmplace.org/event/sd-iii-group/2029-02-08/
LOCATION:The WARM Place\, 809 Lipscomb Street\, Fort Worth\, TX\, 76104\, United States
CATEGORIES:Group Nights
GEO:32.7359889;-97.333097
X-APPLE-STRUCTURED-LOCATION;VALUE=URI;X-ADDRESS=The WARM Place 809 Lipscomb Street Fort Worth TX 76104 United States;X-APPLE-RADIUS=500;X-TITLE=809 Lipscomb Street:geo:-97.333097,32.7359889
END:VEVENT
BEGIN:VEVENT
DTSTART;TZID=America/Chicago:20290222T181500
DTEND;TZID=America/Chicago:20290222T201500
DTSTAMP:20260421T004250
CREATED:20250624T064220Z
LAST-MODIFIED:20250624T064220Z
UID:16815108-1866478500-1866485700@www.thewarmplace.org
SUMMARY:S&D III Group
DESCRIPTION:Support group for children ages 5-18 who have experienced the death of a parent. Children must be accompanied by a parent or legal guardian. Families must contact The WARM Place to schedule an intake appointment prior to joining evening groups.
URL:https://www.thewarmplace.org/event/sd-iii-group/2029-02-22/
LOCATION:The WARM Place\, 809 Lipscomb Street\, Fort Worth\, TX\, 76104\, United States
CATEGORIES:Group Nights
GEO:32.7359889;-97.333097
X-APPLE-STRUCTURED-LOCATION;VALUE=URI;X-ADDRESS=The WARM Place 809 Lipscomb Street Fort Worth TX 76104 United States;X-APPLE-RADIUS=500;X-TITLE=809 Lipscomb Street:geo:-97.333097,32.7359889
END:VEVENT
BEGIN:VEVENT
DTSTART;TZID=America/Chicago:20290308T181500
DTEND;TZID=America/Chicago:20290308T201500
DTSTAMP:20260421T004250
CREATED:20250624T064220Z
LAST-MODIFIED:20250624T064220Z
UID:16815109-1867688100-1867695300@www.thewarmplace.org
SUMMARY:S&D III Group
DESCRIPTION:Support group for children ages 5-18 who have experienced the death of a parent. Children must be accompanied by a parent or legal guardian. Families must contact The WARM Place to schedule an intake appointment prior to joining evening groups.
URL:https://www.thewarmplace.org/event/sd-iii-group/2029-03-08/
LOCATION:The WARM Place\, 809 Lipscomb Street\, Fort Worth\, TX\, 76104\, United States
CATEGORIES:Group Nights
GEO:32.7359889;-97.333097
X-APPLE-STRUCTURED-LOCATION;VALUE=URI;X-ADDRESS=The WARM Place 809 Lipscomb Street Fort Worth TX 76104 United States;X-APPLE-RADIUS=500;X-TITLE=809 Lipscomb Street:geo:-97.333097,32.7359889
END:VEVENT
BEGIN:VEVENT
DTSTART;TZID=America/Chicago:20290322T181500
DTEND;TZID=America/Chicago:20290322T201500
DTSTAMP:20260421T004250
CREATED:20250624T064220Z
LAST-MODIFIED:20250624T064220Z
UID:16815110-1868897700-1868904900@www.thewarmplace.org
SUMMARY:S&D III Group
DESCRIPTION:Support group for children ages 5-18 who have experienced the death of a parent. Children must be accompanied by a parent or legal guardian. Families must contact The WARM Place to schedule an intake appointment prior to joining evening groups.
URL:https://www.thewarmplace.org/event/sd-iii-group/2029-03-22/
LOCATION:The WARM Place\, 809 Lipscomb Street\, Fort Worth\, TX\, 76104\, United States
CATEGORIES:Group Nights
GEO:32.7359889;-97.333097
X-APPLE-STRUCTURED-LOCATION;VALUE=URI;X-ADDRESS=The WARM Place 809 Lipscomb Street Fort Worth TX 76104 United States;X-APPLE-RADIUS=500;X-TITLE=809 Lipscomb Street:geo:-97.333097,32.7359889
END:VEVENT
BEGIN:VEVENT
DTSTART;TZID=America/Chicago:20290405T181500
DTEND;TZID=America/Chicago:20290405T201500
DTSTAMP:20260421T004250
CREATED:20250624T064220Z
LAST-MODIFIED:20250624T064220Z
UID:16815111-1870107300-1870114500@www.thewarmplace.org
SUMMARY:S&D III Group
DESCRIPTION:Support group for children ages 5-18 who have experienced the death of a parent. Children must be accompanied by a parent or legal guardian. Families must contact The WARM Place to schedule an intake appointment prior to joining evening groups.
URL:https://www.thewarmplace.org/event/sd-iii-group/2029-04-05/
LOCATION:The WARM Place\, 809 Lipscomb Street\, Fort Worth\, TX\, 76104\, United States
CATEGORIES:Group Nights
GEO:32.7359889;-97.333097
X-APPLE-STRUCTURED-LOCATION;VALUE=URI;X-ADDRESS=The WARM Place 809 Lipscomb Street Fort Worth TX 76104 United States;X-APPLE-RADIUS=500;X-TITLE=809 Lipscomb Street:geo:-97.333097,32.7359889
END:VEVENT
BEGIN:VEVENT
DTSTART;TZID=America/Chicago:20290419T181500
DTEND;TZID=America/Chicago:20290419T201500
DTSTAMP:20260421T004250
CREATED:20250624T064220Z
LAST-MODIFIED:20250624T064220Z
UID:16815112-1871316900-1871324100@www.thewarmplace.org
SUMMARY:S&D III Group
DESCRIPTION:Support group for children ages 5-18 who have experienced the death of a parent. Children must be accompanied by a parent or legal guardian. Families must contact The WARM Place to schedule an intake appointment prior to joining evening groups.
URL:https://www.thewarmplace.org/event/sd-iii-group/2029-04-19/
LOCATION:The WARM Place\, 809 Lipscomb Street\, Fort Worth\, TX\, 76104\, United States
CATEGORIES:Group Nights
GEO:32.7359889;-97.333097
X-APPLE-STRUCTURED-LOCATION;VALUE=URI;X-ADDRESS=The WARM Place 809 Lipscomb Street Fort Worth TX 76104 United States;X-APPLE-RADIUS=500;X-TITLE=809 Lipscomb Street:geo:-97.333097,32.7359889
END:VEVENT
BEGIN:VEVENT
DTSTART;TZID=America/Chicago:20290503T181500
DTEND;TZID=America/Chicago:20290503T201500
DTSTAMP:20260421T004250
CREATED:20250624T064220Z
LAST-MODIFIED:20250624T064220Z
UID:16815113-1872526500-1872533700@www.thewarmplace.org
SUMMARY:S&D III Group
DESCRIPTION:Support group for children ages 5-18 who have experienced the death of a parent. Children must be accompanied by a parent or legal guardian. Families must contact The WARM Place to schedule an intake appointment prior to joining evening groups.
URL:https://www.thewarmplace.org/event/sd-iii-group/2029-05-03/
LOCATION:The WARM Place\, 809 Lipscomb Street\, Fort Worth\, TX\, 76104\, United States
CATEGORIES:Group Nights
GEO:32.7359889;-97.333097
X-APPLE-STRUCTURED-LOCATION;VALUE=URI;X-ADDRESS=The WARM Place 809 Lipscomb Street Fort Worth TX 76104 United States;X-APPLE-RADIUS=500;X-TITLE=809 Lipscomb Street:geo:-97.333097,32.7359889
END:VEVENT
BEGIN:VEVENT
DTSTART;TZID=America/Chicago:20290517T181500
DTEND;TZID=America/Chicago:20290517T201500
DTSTAMP:20260421T004250
CREATED:20250624T064220Z
LAST-MODIFIED:20250624T064220Z
UID:16815114-1873736100-1873743300@www.thewarmplace.org
SUMMARY:S&D III Group
DESCRIPTION:Support group for children ages 5-18 who have experienced the death of a parent. Children must be accompanied by a parent or legal guardian. Families must contact The WARM Place to schedule an intake appointment prior to joining evening groups.
URL:https://www.thewarmplace.org/event/sd-iii-group/2029-05-17/
LOCATION:The WARM Place\, 809 Lipscomb Street\, Fort Worth\, TX\, 76104\, United States
CATEGORIES:Group Nights
GEO:32.7359889;-97.333097
X-APPLE-STRUCTURED-LOCATION;VALUE=URI;X-ADDRESS=The WARM Place 809 Lipscomb Street Fort Worth TX 76104 United States;X-APPLE-RADIUS=500;X-TITLE=809 Lipscomb Street:geo:-97.333097,32.7359889
END:VEVENT
BEGIN:VEVENT
DTSTART;TZID=America/Chicago:20290531T181500
DTEND;TZID=America/Chicago:20290531T201500
DTSTAMP:20260421T004250
CREATED:20250624T064220Z
LAST-MODIFIED:20250624T064220Z
UID:16815115-1874945700-1874952900@www.thewarmplace.org
SUMMARY:S&D III Group
DESCRIPTION:Support group for children ages 5-18 who have experienced the death of a parent. Children must be accompanied by a parent or legal guardian. Families must contact The WARM Place to schedule an intake appointment prior to joining evening groups.
URL:https://www.thewarmplace.org/event/sd-iii-group/2029-05-31/
LOCATION:The WARM Place\, 809 Lipscomb Street\, Fort Worth\, TX\, 76104\, United States
CATEGORIES:Group Nights
GEO:32.7359889;-97.333097
X-APPLE-STRUCTURED-LOCATION;VALUE=URI;X-ADDRESS=The WARM Place 809 Lipscomb Street Fort Worth TX 76104 United States;X-APPLE-RADIUS=500;X-TITLE=809 Lipscomb Street:geo:-97.333097,32.7359889
END:VEVENT
BEGIN:VEVENT
DTSTART;TZID=America/Chicago:20290614T181500
DTEND;TZID=America/Chicago:20290614T201500
DTSTAMP:20260421T004250
CREATED:20250624T064220Z
LAST-MODIFIED:20250624T064220Z
UID:16815116-1876155300-1876162500@www.thewarmplace.org
SUMMARY:S&D III Group
DESCRIPTION:Support group for children ages 5-18 who have experienced the death of a parent. Children must be accompanied by a parent or legal guardian. Families must contact The WARM Place to schedule an intake appointment prior to joining evening groups.
URL:https://www.thewarmplace.org/event/sd-iii-group/2029-06-14/
LOCATION:The WARM Place\, 809 Lipscomb Street\, Fort Worth\, TX\, 76104\, United States
CATEGORIES:Group Nights
GEO:32.7359889;-97.333097
X-APPLE-STRUCTURED-LOCATION;VALUE=URI;X-ADDRESS=The WARM Place 809 Lipscomb Street Fort Worth TX 76104 United States;X-APPLE-RADIUS=500;X-TITLE=809 Lipscomb Street:geo:-97.333097,32.7359889
END:VEVENT
BEGIN:VEVENT
DTSTART;TZID=America/Chicago:20290628T181500
DTEND;TZID=America/Chicago:20290628T201500
DTSTAMP:20260421T004250
CREATED:20250624T064220Z
LAST-MODIFIED:20250624T064220Z
UID:16815117-1877364900-1877372100@www.thewarmplace.org
SUMMARY:S&D III Group
DESCRIPTION:Support group for children ages 5-18 who have experienced the death of a parent. Children must be accompanied by a parent or legal guardian. Families must contact The WARM Place to schedule an intake appointment prior to joining evening groups.
URL:https://www.thewarmplace.org/event/sd-iii-group/2029-06-28/
LOCATION:The WARM Place\, 809 Lipscomb Street\, Fort Worth\, TX\, 76104\, United States
CATEGORIES:Group Nights
GEO:32.7359889;-97.333097
X-APPLE-STRUCTURED-LOCATION;VALUE=URI;X-ADDRESS=The WARM Place 809 Lipscomb Street Fort Worth TX 76104 United States;X-APPLE-RADIUS=500;X-TITLE=809 Lipscomb Street:geo:-97.333097,32.7359889
END:VEVENT
BEGIN:VEVENT
DTSTART;TZID=America/Chicago:20290712T181500
DTEND;TZID=America/Chicago:20290712T201500
DTSTAMP:20260421T004250
CREATED:20250624T064220Z
LAST-MODIFIED:20250624T064220Z
UID:16815118-1878574500-1878581700@www.thewarmplace.org
SUMMARY:S&D III Group
DESCRIPTION:Support group for children ages 5-18 who have experienced the death of a parent. Children must be accompanied by a parent or legal guardian. Families must contact The WARM Place to schedule an intake appointment prior to joining evening groups.
URL:https://www.thewarmplace.org/event/sd-iii-group/2029-07-12/
LOCATION:The WARM Place\, 809 Lipscomb Street\, Fort Worth\, TX\, 76104\, United States
CATEGORIES:Group Nights
GEO:32.7359889;-97.333097
X-APPLE-STRUCTURED-LOCATION;VALUE=URI;X-ADDRESS=The WARM Place 809 Lipscomb Street Fort Worth TX 76104 United States;X-APPLE-RADIUS=500;X-TITLE=809 Lipscomb Street:geo:-97.333097,32.7359889
END:VEVENT
BEGIN:VEVENT
DTSTART;TZID=America/Chicago:20290726T181500
DTEND;TZID=America/Chicago:20290726T201500
DTSTAMP:20260421T004250
CREATED:20250624T064220Z
LAST-MODIFIED:20250624T064220Z
UID:16815119-1879784100-1879791300@www.thewarmplace.org
SUMMARY:S&D III Group
DESCRIPTION:Support group for children ages 5-18 who have experienced the death of a parent. Children must be accompanied by a parent or legal guardian. Families must contact The WARM Place to schedule an intake appointment prior to joining evening groups.
URL:https://www.thewarmplace.org/event/sd-iii-group/2029-07-26/
LOCATION:The WARM Place\, 809 Lipscomb Street\, Fort Worth\, TX\, 76104\, United States
CATEGORIES:Group Nights
GEO:32.7359889;-97.333097
X-APPLE-STRUCTURED-LOCATION;VALUE=URI;X-ADDRESS=The WARM Place 809 Lipscomb Street Fort Worth TX 76104 United States;X-APPLE-RADIUS=500;X-TITLE=809 Lipscomb Street:geo:-97.333097,32.7359889
END:VEVENT
BEGIN:VEVENT
DTSTART;TZID=America/Chicago:20290809T181500
DTEND;TZID=America/Chicago:20290809T201500
DTSTAMP:20260421T004250
CREATED:20250624T064220Z
LAST-MODIFIED:20250624T064220Z
UID:16815120-1880993700-1881000900@www.thewarmplace.org
SUMMARY:S&D III Group
DESCRIPTION:Support group for children ages 5-18 who have experienced the death of a parent. Children must be accompanied by a parent or legal guardian. Families must contact The WARM Place to schedule an intake appointment prior to joining evening groups.
URL:https://www.thewarmplace.org/event/sd-iii-group/2029-08-09/
LOCATION:The WARM Place\, 809 Lipscomb Street\, Fort Worth\, TX\, 76104\, United States
CATEGORIES:Group Nights
GEO:32.7359889;-97.333097
X-APPLE-STRUCTURED-LOCATION;VALUE=URI;X-ADDRESS=The WARM Place 809 Lipscomb Street Fort Worth TX 76104 United States;X-APPLE-RADIUS=500;X-TITLE=809 Lipscomb Street:geo:-97.333097,32.7359889
END:VEVENT
BEGIN:VEVENT
DTSTART;TZID=America/Chicago:20290823T181500
DTEND;TZID=America/Chicago:20290823T201500
DTSTAMP:20260421T004250
CREATED:20250624T064220Z
LAST-MODIFIED:20250624T064220Z
UID:16815121-1882203300-1882210500@www.thewarmplace.org
SUMMARY:S&D III Group
DESCRIPTION:Support group for children ages 5-18 who have experienced the death of a parent. Children must be accompanied by a parent or legal guardian. Families must contact The WARM Place to schedule an intake appointment prior to joining evening groups.
URL:https://www.thewarmplace.org/event/sd-iii-group/2029-08-23/
LOCATION:The WARM Place\, 809 Lipscomb Street\, Fort Worth\, TX\, 76104\, United States
CATEGORIES:Group Nights
GEO:32.7359889;-97.333097
X-APPLE-STRUCTURED-LOCATION;VALUE=URI;X-ADDRESS=The WARM Place 809 Lipscomb Street Fort Worth TX 76104 United States;X-APPLE-RADIUS=500;X-TITLE=809 Lipscomb Street:geo:-97.333097,32.7359889
END:VEVENT
BEGIN:VEVENT
DTSTART;TZID=America/Chicago:20290906T181500
DTEND;TZID=America/Chicago:20290906T201500
DTSTAMP:20260421T004250
CREATED:20250624T064220Z
LAST-MODIFIED:20250624T064220Z
UID:16815122-1883412900-1883420100@www.thewarmplace.org
SUMMARY:S&D III Group
DESCRIPTION:Support group for children ages 5-18 who have experienced the death of a parent. Children must be accompanied by a parent or legal guardian. Families must contact The WARM Place to schedule an intake appointment prior to joining evening groups.
URL:https://www.thewarmplace.org/event/sd-iii-group/2029-09-06/
LOCATION:The WARM Place\, 809 Lipscomb Street\, Fort Worth\, TX\, 76104\, United States
CATEGORIES:Group Nights
GEO:32.7359889;-97.333097
X-APPLE-STRUCTURED-LOCATION;VALUE=URI;X-ADDRESS=The WARM Place 809 Lipscomb Street Fort Worth TX 76104 United States;X-APPLE-RADIUS=500;X-TITLE=809 Lipscomb Street:geo:-97.333097,32.7359889
END:VEVENT
BEGIN:VEVENT
DTSTART;TZID=America/Chicago:20290920T181500
DTEND;TZID=America/Chicago:20290920T201500
DTSTAMP:20260421T004250
CREATED:20250624T064220Z
LAST-MODIFIED:20250624T064220Z
UID:16815123-1884622500-1884629700@www.thewarmplace.org
SUMMARY:S&D III Group
DESCRIPTION:Support group for children ages 5-18 who have experienced the death of a parent. Children must be accompanied by a parent or legal guardian. Families must contact The WARM Place to schedule an intake appointment prior to joining evening groups.
URL:https://www.thewarmplace.org/event/sd-iii-group/2029-09-20/
LOCATION:The WARM Place\, 809 Lipscomb Street\, Fort Worth\, TX\, 76104\, United States
CATEGORIES:Group Nights
GEO:32.7359889;-97.333097
X-APPLE-STRUCTURED-LOCATION;VALUE=URI;X-ADDRESS=The WARM Place 809 Lipscomb Street Fort Worth TX 76104 United States;X-APPLE-RADIUS=500;X-TITLE=809 Lipscomb Street:geo:-97.333097,32.7359889
END:VEVENT
BEGIN:VEVENT
DTSTART;TZID=America/Chicago:20291004T181500
DTEND;TZID=America/Chicago:20291004T201500
DTSTAMP:20260421T004250
CREATED:20250624T064220Z
LAST-MODIFIED:20250624T064220Z
UID:16815124-1885832100-1885839300@www.thewarmplace.org
SUMMARY:S&D III Group
DESCRIPTION:Support group for children ages 5-18 who have experienced the death of a parent. Children must be accompanied by a parent or legal guardian. Families must contact The WARM Place to schedule an intake appointment prior to joining evening groups.
URL:https://www.thewarmplace.org/event/sd-iii-group/2029-10-04/
LOCATION:The WARM Place\, 809 Lipscomb Street\, Fort Worth\, TX\, 76104\, United States
CATEGORIES:Group Nights
GEO:32.7359889;-97.333097
X-APPLE-STRUCTURED-LOCATION;VALUE=URI;X-ADDRESS=The WARM Place 809 Lipscomb Street Fort Worth TX 76104 United States;X-APPLE-RADIUS=500;X-TITLE=809 Lipscomb Street:geo:-97.333097,32.7359889
END:VEVENT
BEGIN:VEVENT
DTSTART;TZID=America/Chicago:20291018T181500
DTEND;TZID=America/Chicago:20291018T201500
DTSTAMP:20260421T004250
CREATED:20250624T064220Z
LAST-MODIFIED:20250624T064220Z
UID:16815125-1887041700-1887048900@www.thewarmplace.org
SUMMARY:S&D III Group
DESCRIPTION:Support group for children ages 5-18 who have experienced the death of a parent. Children must be accompanied by a parent or legal guardian. Families must contact The WARM Place to schedule an intake appointment prior to joining evening groups.
URL:https://www.thewarmplace.org/event/sd-iii-group/2029-10-18/
LOCATION:The WARM Place\, 809 Lipscomb Street\, Fort Worth\, TX\, 76104\, United States
CATEGORIES:Group Nights
GEO:32.7359889;-97.333097
X-APPLE-STRUCTURED-LOCATION;VALUE=URI;X-ADDRESS=The WARM Place 809 Lipscomb Street Fort Worth TX 76104 United States;X-APPLE-RADIUS=500;X-TITLE=809 Lipscomb Street:geo:-97.333097,32.7359889
END:VEVENT
BEGIN:VEVENT
DTSTART;TZID=America/Chicago:20291101T181500
DTEND;TZID=America/Chicago:20291101T201500
DTSTAMP:20260421T004250
CREATED:20250624T064220Z
LAST-MODIFIED:20250624T064220Z
UID:16815126-1888251300-1888258500@www.thewarmplace.org
SUMMARY:S&D III Group
DESCRIPTION:Support group for children ages 5-18 who have experienced the death of a parent. Children must be accompanied by a parent or legal guardian. Families must contact The WARM Place to schedule an intake appointment prior to joining evening groups.
URL:https://www.thewarmplace.org/event/sd-iii-group/2029-11-01/
LOCATION:The WARM Place\, 809 Lipscomb Street\, Fort Worth\, TX\, 76104\, United States
CATEGORIES:Group Nights
GEO:32.7359889;-97.333097
X-APPLE-STRUCTURED-LOCATION;VALUE=URI;X-ADDRESS=The WARM Place 809 Lipscomb Street Fort Worth TX 76104 United States;X-APPLE-RADIUS=500;X-TITLE=809 Lipscomb Street:geo:-97.333097,32.7359889
END:VEVENT
BEGIN:VEVENT
DTSTART;TZID=America/Chicago:20291115T181500
DTEND;TZID=America/Chicago:20291115T201500
DTSTAMP:20260421T004250
CREATED:20250624T064220Z
LAST-MODIFIED:20250624T064220Z
UID:16815127-1889460900-1889468100@www.thewarmplace.org
SUMMARY:S&D III Group
DESCRIPTION:Support group for children ages 5-18 who have experienced the death of a parent. Children must be accompanied by a parent or legal guardian. Families must contact The WARM Place to schedule an intake appointment prior to joining evening groups.
URL:https://www.thewarmplace.org/event/sd-iii-group/2029-11-15/
LOCATION:The WARM Place\, 809 Lipscomb Street\, Fort Worth\, TX\, 76104\, United States
CATEGORIES:Group Nights
GEO:32.7359889;-97.333097
X-APPLE-STRUCTURED-LOCATION;VALUE=URI;X-ADDRESS=The WARM Place 809 Lipscomb Street Fort Worth TX 76104 United States;X-APPLE-RADIUS=500;X-TITLE=809 Lipscomb Street:geo:-97.333097,32.7359889
END:VEVENT
END:VCALENDAR