BEGIN:VCALENDAR
VERSION:2.0
PRODID:-//The WARM Place - ECPv6.15.18//NONSGML v1.0//EN
CALSCALE:GREGORIAN
METHOD:PUBLISH
X-ORIGINAL-URL:https://www.thewarmplace.org
X-WR-CALDESC:Events for The WARM Place
REFRESH-INTERVAL;VALUE=DURATION:PT1H
X-Robots-Tag:noindex
X-PUBLISHED-TTL:PT1H
BEGIN:VTIMEZONE
TZID:America/Chicago
BEGIN:DAYLIGHT
TZOFFSETFROM:-0600
TZOFFSETTO:-0500
TZNAME:CDT
DTSTART:20260308T080000
END:DAYLIGHT
BEGIN:STANDARD
TZOFFSETFROM:-0500
TZOFFSETTO:-0600
TZNAME:CST
DTSTART:20261101T070000
END:STANDARD
BEGIN:DAYLIGHT
TZOFFSETFROM:-0600
TZOFFSETTO:-0500
TZNAME:CDT
DTSTART:20270314T080000
END:DAYLIGHT
BEGIN:STANDARD
TZOFFSETFROM:-0500
TZOFFSETTO:-0600
TZNAME:CST
DTSTART:20271107T070000
END:STANDARD
BEGIN:DAYLIGHT
TZOFFSETFROM:-0600
TZOFFSETTO:-0500
TZNAME:CDT
DTSTART:20280312T080000
END:DAYLIGHT
BEGIN:STANDARD
TZOFFSETFROM:-0500
TZOFFSETTO:-0600
TZNAME:CST
DTSTART:20281105T070000
END:STANDARD
BEGIN:DAYLIGHT
TZOFFSETFROM:-0600
TZOFFSETTO:-0500
TZNAME:CDT
DTSTART:20290311T080000
END:DAYLIGHT
BEGIN:STANDARD
TZOFFSETFROM:-0500
TZOFFSETTO:-0600
TZNAME:CST
DTSTART:20291104T070000
END:STANDARD
END:VTIMEZONE
BEGIN:VEVENT
DTSTART;TZID=America/Chicago:20270406T181500
DTEND;TZID=America/Chicago:20270406T201500
DTSTAMP:20260421T145128
CREATED:20250624T065017Z
LAST-MODIFIED:20250624T065017Z
UID:16814817-1807035300-1807042500@www.thewarmplace.org
SUMMARY:S&D V Group
DESCRIPTION:Support group for children ages 5-18 who have experienced the death of a parent. Children must be accompanied by a parent or legal guardian. Families must contact The WARM Place to schedule an intake appointment prior to joining evening groups.
URL:https://www.thewarmplace.org/event/sd-v-group/2027-04-06/
LOCATION:The WARM Place\, 809 Lipscomb Street\, Fort Worth\, TX\, 76104\, United States
CATEGORIES:Group Nights
GEO:32.7359889;-97.333097
X-APPLE-STRUCTURED-LOCATION;VALUE=URI;X-ADDRESS=The WARM Place 809 Lipscomb Street Fort Worth TX 76104 United States;X-APPLE-RADIUS=500;X-TITLE=809 Lipscomb Street:geo:-97.333097,32.7359889
END:VEVENT
BEGIN:VEVENT
DTSTART;TZID=America/Chicago:20270420T181500
DTEND;TZID=America/Chicago:20270420T201500
DTSTAMP:20260421T145128
CREATED:20250624T065017Z
LAST-MODIFIED:20250624T065017Z
UID:16814818-1808244900-1808252100@www.thewarmplace.org
SUMMARY:S&D V Group
DESCRIPTION:Support group for children ages 5-18 who have experienced the death of a parent. Children must be accompanied by a parent or legal guardian. Families must contact The WARM Place to schedule an intake appointment prior to joining evening groups.
URL:https://www.thewarmplace.org/event/sd-v-group/2027-04-20/
LOCATION:The WARM Place\, 809 Lipscomb Street\, Fort Worth\, TX\, 76104\, United States
CATEGORIES:Group Nights
GEO:32.7359889;-97.333097
X-APPLE-STRUCTURED-LOCATION;VALUE=URI;X-ADDRESS=The WARM Place 809 Lipscomb Street Fort Worth TX 76104 United States;X-APPLE-RADIUS=500;X-TITLE=809 Lipscomb Street:geo:-97.333097,32.7359889
END:VEVENT
BEGIN:VEVENT
DTSTART;TZID=America/Chicago:20270504T181500
DTEND;TZID=America/Chicago:20270504T201500
DTSTAMP:20260421T145128
CREATED:20250624T065017Z
LAST-MODIFIED:20250624T065017Z
UID:16814819-1809454500-1809461700@www.thewarmplace.org
SUMMARY:S&D V Group
DESCRIPTION:Support group for children ages 5-18 who have experienced the death of a parent. Children must be accompanied by a parent or legal guardian. Families must contact The WARM Place to schedule an intake appointment prior to joining evening groups.
URL:https://www.thewarmplace.org/event/sd-v-group/2027-05-04/
LOCATION:The WARM Place\, 809 Lipscomb Street\, Fort Worth\, TX\, 76104\, United States
CATEGORIES:Group Nights
GEO:32.7359889;-97.333097
X-APPLE-STRUCTURED-LOCATION;VALUE=URI;X-ADDRESS=The WARM Place 809 Lipscomb Street Fort Worth TX 76104 United States;X-APPLE-RADIUS=500;X-TITLE=809 Lipscomb Street:geo:-97.333097,32.7359889
END:VEVENT
BEGIN:VEVENT
DTSTART;TZID=America/Chicago:20270518T181500
DTEND;TZID=America/Chicago:20270518T201500
DTSTAMP:20260421T145128
CREATED:20250624T065017Z
LAST-MODIFIED:20250624T065017Z
UID:16814820-1810664100-1810671300@www.thewarmplace.org
SUMMARY:S&D V Group
DESCRIPTION:Support group for children ages 5-18 who have experienced the death of a parent. Children must be accompanied by a parent or legal guardian. Families must contact The WARM Place to schedule an intake appointment prior to joining evening groups.
URL:https://www.thewarmplace.org/event/sd-v-group/2027-05-18/
LOCATION:The WARM Place\, 809 Lipscomb Street\, Fort Worth\, TX\, 76104\, United States
CATEGORIES:Group Nights
GEO:32.7359889;-97.333097
X-APPLE-STRUCTURED-LOCATION;VALUE=URI;X-ADDRESS=The WARM Place 809 Lipscomb Street Fort Worth TX 76104 United States;X-APPLE-RADIUS=500;X-TITLE=809 Lipscomb Street:geo:-97.333097,32.7359889
END:VEVENT
BEGIN:VEVENT
DTSTART;TZID=America/Chicago:20270601T181500
DTEND;TZID=America/Chicago:20270601T201500
DTSTAMP:20260421T145128
CREATED:20250624T065017Z
LAST-MODIFIED:20250624T065017Z
UID:16814821-1811873700-1811880900@www.thewarmplace.org
SUMMARY:S&D V Group
DESCRIPTION:Support group for children ages 5-18 who have experienced the death of a parent. Children must be accompanied by a parent or legal guardian. Families must contact The WARM Place to schedule an intake appointment prior to joining evening groups.
URL:https://www.thewarmplace.org/event/sd-v-group/2027-06-01/
LOCATION:The WARM Place\, 809 Lipscomb Street\, Fort Worth\, TX\, 76104\, United States
CATEGORIES:Group Nights
GEO:32.7359889;-97.333097
X-APPLE-STRUCTURED-LOCATION;VALUE=URI;X-ADDRESS=The WARM Place 809 Lipscomb Street Fort Worth TX 76104 United States;X-APPLE-RADIUS=500;X-TITLE=809 Lipscomb Street:geo:-97.333097,32.7359889
END:VEVENT
BEGIN:VEVENT
DTSTART;TZID=America/Chicago:20270615T181500
DTEND;TZID=America/Chicago:20270615T201500
DTSTAMP:20260421T145128
CREATED:20250624T065017Z
LAST-MODIFIED:20250624T065017Z
UID:16814822-1813083300-1813090500@www.thewarmplace.org
SUMMARY:S&D V Group
DESCRIPTION:Support group for children ages 5-18 who have experienced the death of a parent. Children must be accompanied by a parent or legal guardian. Families must contact The WARM Place to schedule an intake appointment prior to joining evening groups.
URL:https://www.thewarmplace.org/event/sd-v-group/2027-06-15/
LOCATION:The WARM Place\, 809 Lipscomb Street\, Fort Worth\, TX\, 76104\, United States
CATEGORIES:Group Nights
GEO:32.7359889;-97.333097
X-APPLE-STRUCTURED-LOCATION;VALUE=URI;X-ADDRESS=The WARM Place 809 Lipscomb Street Fort Worth TX 76104 United States;X-APPLE-RADIUS=500;X-TITLE=809 Lipscomb Street:geo:-97.333097,32.7359889
END:VEVENT
BEGIN:VEVENT
DTSTART;TZID=America/Chicago:20270629T181500
DTEND;TZID=America/Chicago:20270629T201500
DTSTAMP:20260421T145128
CREATED:20250624T065017Z
LAST-MODIFIED:20250624T065017Z
UID:16814823-1814292900-1814300100@www.thewarmplace.org
SUMMARY:S&D V Group
DESCRIPTION:Support group for children ages 5-18 who have experienced the death of a parent. Children must be accompanied by a parent or legal guardian. Families must contact The WARM Place to schedule an intake appointment prior to joining evening groups.
URL:https://www.thewarmplace.org/event/sd-v-group/2027-06-29/
LOCATION:The WARM Place\, 809 Lipscomb Street\, Fort Worth\, TX\, 76104\, United States
CATEGORIES:Group Nights
GEO:32.7359889;-97.333097
X-APPLE-STRUCTURED-LOCATION;VALUE=URI;X-ADDRESS=The WARM Place 809 Lipscomb Street Fort Worth TX 76104 United States;X-APPLE-RADIUS=500;X-TITLE=809 Lipscomb Street:geo:-97.333097,32.7359889
END:VEVENT
BEGIN:VEVENT
DTSTART;TZID=America/Chicago:20270713T181500
DTEND;TZID=America/Chicago:20270713T201500
DTSTAMP:20260421T145128
CREATED:20250624T065017Z
LAST-MODIFIED:20250624T065017Z
UID:16814824-1815502500-1815509700@www.thewarmplace.org
SUMMARY:S&D V Group
DESCRIPTION:Support group for children ages 5-18 who have experienced the death of a parent. Children must be accompanied by a parent or legal guardian. Families must contact The WARM Place to schedule an intake appointment prior to joining evening groups.
URL:https://www.thewarmplace.org/event/sd-v-group/2027-07-13/
LOCATION:The WARM Place\, 809 Lipscomb Street\, Fort Worth\, TX\, 76104\, United States
CATEGORIES:Group Nights
GEO:32.7359889;-97.333097
X-APPLE-STRUCTURED-LOCATION;VALUE=URI;X-ADDRESS=The WARM Place 809 Lipscomb Street Fort Worth TX 76104 United States;X-APPLE-RADIUS=500;X-TITLE=809 Lipscomb Street:geo:-97.333097,32.7359889
END:VEVENT
BEGIN:VEVENT
DTSTART;TZID=America/Chicago:20270727T181500
DTEND;TZID=America/Chicago:20270727T201500
DTSTAMP:20260421T145128
CREATED:20250624T065017Z
LAST-MODIFIED:20250624T065017Z
UID:16814825-1816712100-1816719300@www.thewarmplace.org
SUMMARY:S&D V Group
DESCRIPTION:Support group for children ages 5-18 who have experienced the death of a parent. Children must be accompanied by a parent or legal guardian. Families must contact The WARM Place to schedule an intake appointment prior to joining evening groups.
URL:https://www.thewarmplace.org/event/sd-v-group/2027-07-27/
LOCATION:The WARM Place\, 809 Lipscomb Street\, Fort Worth\, TX\, 76104\, United States
CATEGORIES:Group Nights
GEO:32.7359889;-97.333097
X-APPLE-STRUCTURED-LOCATION;VALUE=URI;X-ADDRESS=The WARM Place 809 Lipscomb Street Fort Worth TX 76104 United States;X-APPLE-RADIUS=500;X-TITLE=809 Lipscomb Street:geo:-97.333097,32.7359889
END:VEVENT
BEGIN:VEVENT
DTSTART;TZID=America/Chicago:20270810T181500
DTEND;TZID=America/Chicago:20270810T201500
DTSTAMP:20260421T145128
CREATED:20250624T065017Z
LAST-MODIFIED:20250624T065017Z
UID:16814826-1817921700-1817928900@www.thewarmplace.org
SUMMARY:S&D V Group
DESCRIPTION:Support group for children ages 5-18 who have experienced the death of a parent. Children must be accompanied by a parent or legal guardian. Families must contact The WARM Place to schedule an intake appointment prior to joining evening groups.
URL:https://www.thewarmplace.org/event/sd-v-group/2027-08-10/
LOCATION:The WARM Place\, 809 Lipscomb Street\, Fort Worth\, TX\, 76104\, United States
CATEGORIES:Group Nights
GEO:32.7359889;-97.333097
X-APPLE-STRUCTURED-LOCATION;VALUE=URI;X-ADDRESS=The WARM Place 809 Lipscomb Street Fort Worth TX 76104 United States;X-APPLE-RADIUS=500;X-TITLE=809 Lipscomb Street:geo:-97.333097,32.7359889
END:VEVENT
BEGIN:VEVENT
DTSTART;TZID=America/Chicago:20270824T181500
DTEND;TZID=America/Chicago:20270824T201500
DTSTAMP:20260421T145128
CREATED:20250624T065017Z
LAST-MODIFIED:20250624T065017Z
UID:16814827-1819131300-1819138500@www.thewarmplace.org
SUMMARY:S&D V Group
DESCRIPTION:Support group for children ages 5-18 who have experienced the death of a parent. Children must be accompanied by a parent or legal guardian. Families must contact The WARM Place to schedule an intake appointment prior to joining evening groups.
URL:https://www.thewarmplace.org/event/sd-v-group/2027-08-24/
LOCATION:The WARM Place\, 809 Lipscomb Street\, Fort Worth\, TX\, 76104\, United States
CATEGORIES:Group Nights
GEO:32.7359889;-97.333097
X-APPLE-STRUCTURED-LOCATION;VALUE=URI;X-ADDRESS=The WARM Place 809 Lipscomb Street Fort Worth TX 76104 United States;X-APPLE-RADIUS=500;X-TITLE=809 Lipscomb Street:geo:-97.333097,32.7359889
END:VEVENT
BEGIN:VEVENT
DTSTART;TZID=America/Chicago:20270907T181500
DTEND;TZID=America/Chicago:20270907T201500
DTSTAMP:20260421T145128
CREATED:20250624T065017Z
LAST-MODIFIED:20250624T065017Z
UID:16814828-1820340900-1820348100@www.thewarmplace.org
SUMMARY:S&D V Group
DESCRIPTION:Support group for children ages 5-18 who have experienced the death of a parent. Children must be accompanied by a parent or legal guardian. Families must contact The WARM Place to schedule an intake appointment prior to joining evening groups.
URL:https://www.thewarmplace.org/event/sd-v-group/2027-09-07/
LOCATION:The WARM Place\, 809 Lipscomb Street\, Fort Worth\, TX\, 76104\, United States
CATEGORIES:Group Nights
GEO:32.7359889;-97.333097
X-APPLE-STRUCTURED-LOCATION;VALUE=URI;X-ADDRESS=The WARM Place 809 Lipscomb Street Fort Worth TX 76104 United States;X-APPLE-RADIUS=500;X-TITLE=809 Lipscomb Street:geo:-97.333097,32.7359889
END:VEVENT
BEGIN:VEVENT
DTSTART;TZID=America/Chicago:20270921T181500
DTEND;TZID=America/Chicago:20270921T201500
DTSTAMP:20260421T145128
CREATED:20250624T065017Z
LAST-MODIFIED:20250624T065017Z
UID:16814829-1821550500-1821557700@www.thewarmplace.org
SUMMARY:S&D V Group
DESCRIPTION:Support group for children ages 5-18 who have experienced the death of a parent. Children must be accompanied by a parent or legal guardian. Families must contact The WARM Place to schedule an intake appointment prior to joining evening groups.
URL:https://www.thewarmplace.org/event/sd-v-group/2027-09-21/
LOCATION:The WARM Place\, 809 Lipscomb Street\, Fort Worth\, TX\, 76104\, United States
CATEGORIES:Group Nights
GEO:32.7359889;-97.333097
X-APPLE-STRUCTURED-LOCATION;VALUE=URI;X-ADDRESS=The WARM Place 809 Lipscomb Street Fort Worth TX 76104 United States;X-APPLE-RADIUS=500;X-TITLE=809 Lipscomb Street:geo:-97.333097,32.7359889
END:VEVENT
BEGIN:VEVENT
DTSTART;TZID=America/Chicago:20271005T181500
DTEND;TZID=America/Chicago:20271005T201500
DTSTAMP:20260421T145128
CREATED:20250624T065017Z
LAST-MODIFIED:20250624T065017Z
UID:16814830-1822760100-1822767300@www.thewarmplace.org
SUMMARY:S&D V Group
DESCRIPTION:Support group for children ages 5-18 who have experienced the death of a parent. Children must be accompanied by a parent or legal guardian. Families must contact The WARM Place to schedule an intake appointment prior to joining evening groups.
URL:https://www.thewarmplace.org/event/sd-v-group/2027-10-05/
LOCATION:The WARM Place\, 809 Lipscomb Street\, Fort Worth\, TX\, 76104\, United States
CATEGORIES:Group Nights
GEO:32.7359889;-97.333097
X-APPLE-STRUCTURED-LOCATION;VALUE=URI;X-ADDRESS=The WARM Place 809 Lipscomb Street Fort Worth TX 76104 United States;X-APPLE-RADIUS=500;X-TITLE=809 Lipscomb Street:geo:-97.333097,32.7359889
END:VEVENT
BEGIN:VEVENT
DTSTART;TZID=America/Chicago:20271019T181500
DTEND;TZID=America/Chicago:20271019T201500
DTSTAMP:20260421T145128
CREATED:20250624T065017Z
LAST-MODIFIED:20250624T065017Z
UID:16814831-1823969700-1823976900@www.thewarmplace.org
SUMMARY:S&D V Group
DESCRIPTION:Support group for children ages 5-18 who have experienced the death of a parent. Children must be accompanied by a parent or legal guardian. Families must contact The WARM Place to schedule an intake appointment prior to joining evening groups.
URL:https://www.thewarmplace.org/event/sd-v-group/2027-10-19/
LOCATION:The WARM Place\, 809 Lipscomb Street\, Fort Worth\, TX\, 76104\, United States
CATEGORIES:Group Nights
GEO:32.7359889;-97.333097
X-APPLE-STRUCTURED-LOCATION;VALUE=URI;X-ADDRESS=The WARM Place 809 Lipscomb Street Fort Worth TX 76104 United States;X-APPLE-RADIUS=500;X-TITLE=809 Lipscomb Street:geo:-97.333097,32.7359889
END:VEVENT
BEGIN:VEVENT
DTSTART;TZID=America/Chicago:20271102T181500
DTEND;TZID=America/Chicago:20271102T201500
DTSTAMP:20260421T145128
CREATED:20250624T065017Z
LAST-MODIFIED:20250624T065017Z
UID:16814832-1825179300-1825186500@www.thewarmplace.org
SUMMARY:S&D V Group
DESCRIPTION:Support group for children ages 5-18 who have experienced the death of a parent. Children must be accompanied by a parent or legal guardian. Families must contact The WARM Place to schedule an intake appointment prior to joining evening groups.
URL:https://www.thewarmplace.org/event/sd-v-group/2027-11-02/
LOCATION:The WARM Place\, 809 Lipscomb Street\, Fort Worth\, TX\, 76104\, United States
CATEGORIES:Group Nights
GEO:32.7359889;-97.333097
X-APPLE-STRUCTURED-LOCATION;VALUE=URI;X-ADDRESS=The WARM Place 809 Lipscomb Street Fort Worth TX 76104 United States;X-APPLE-RADIUS=500;X-TITLE=809 Lipscomb Street:geo:-97.333097,32.7359889
END:VEVENT
BEGIN:VEVENT
DTSTART;TZID=America/Chicago:20271116T181500
DTEND;TZID=America/Chicago:20271116T201500
DTSTAMP:20260421T145128
CREATED:20250624T065017Z
LAST-MODIFIED:20250624T065017Z
UID:16814833-1826388900-1826396100@www.thewarmplace.org
SUMMARY:S&D V Group
DESCRIPTION:Support group for children ages 5-18 who have experienced the death of a parent. Children must be accompanied by a parent or legal guardian. Families must contact The WARM Place to schedule an intake appointment prior to joining evening groups.
URL:https://www.thewarmplace.org/event/sd-v-group/2027-11-16/
LOCATION:The WARM Place\, 809 Lipscomb Street\, Fort Worth\, TX\, 76104\, United States
CATEGORIES:Group Nights
GEO:32.7359889;-97.333097
X-APPLE-STRUCTURED-LOCATION;VALUE=URI;X-ADDRESS=The WARM Place 809 Lipscomb Street Fort Worth TX 76104 United States;X-APPLE-RADIUS=500;X-TITLE=809 Lipscomb Street:geo:-97.333097,32.7359889
END:VEVENT
BEGIN:VEVENT
DTSTART;TZID=America/Chicago:20271130T181500
DTEND;TZID=America/Chicago:20271130T201500
DTSTAMP:20260421T145128
CREATED:20250624T065017Z
LAST-MODIFIED:20250624T065017Z
UID:16814834-1827598500-1827605700@www.thewarmplace.org
SUMMARY:S&D V Group
DESCRIPTION:Support group for children ages 5-18 who have experienced the death of a parent. Children must be accompanied by a parent or legal guardian. Families must contact The WARM Place to schedule an intake appointment prior to joining evening groups.
URL:https://www.thewarmplace.org/event/sd-v-group/2027-11-30/
LOCATION:The WARM Place\, 809 Lipscomb Street\, Fort Worth\, TX\, 76104\, United States
CATEGORIES:Group Nights
GEO:32.7359889;-97.333097
X-APPLE-STRUCTURED-LOCATION;VALUE=URI;X-ADDRESS=The WARM Place 809 Lipscomb Street Fort Worth TX 76104 United States;X-APPLE-RADIUS=500;X-TITLE=809 Lipscomb Street:geo:-97.333097,32.7359889
END:VEVENT
BEGIN:VEVENT
DTSTART;TZID=America/Chicago:20271214T181500
DTEND;TZID=America/Chicago:20271214T201500
DTSTAMP:20260421T145128
CREATED:20250624T065017Z
LAST-MODIFIED:20250624T065017Z
UID:16814835-1828808100-1828815300@www.thewarmplace.org
SUMMARY:S&D V Group
DESCRIPTION:Support group for children ages 5-18 who have experienced the death of a parent. Children must be accompanied by a parent or legal guardian. Families must contact The WARM Place to schedule an intake appointment prior to joining evening groups.
URL:https://www.thewarmplace.org/event/sd-v-group/2027-12-14/
LOCATION:The WARM Place\, 809 Lipscomb Street\, Fort Worth\, TX\, 76104\, United States
CATEGORIES:Group Nights
GEO:32.7359889;-97.333097
X-APPLE-STRUCTURED-LOCATION;VALUE=URI;X-ADDRESS=The WARM Place 809 Lipscomb Street Fort Worth TX 76104 United States;X-APPLE-RADIUS=500;X-TITLE=809 Lipscomb Street:geo:-97.333097,32.7359889
END:VEVENT
BEGIN:VEVENT
DTSTART;TZID=America/Chicago:20271228T181500
DTEND;TZID=America/Chicago:20271228T201500
DTSTAMP:20260421T145128
CREATED:20250624T065017Z
LAST-MODIFIED:20250624T065017Z
UID:16814836-1830017700-1830024900@www.thewarmplace.org
SUMMARY:S&D V Group
DESCRIPTION:Support group for children ages 5-18 who have experienced the death of a parent. Children must be accompanied by a parent or legal guardian. Families must contact The WARM Place to schedule an intake appointment prior to joining evening groups.
URL:https://www.thewarmplace.org/event/sd-v-group/2027-12-28/
LOCATION:The WARM Place\, 809 Lipscomb Street\, Fort Worth\, TX\, 76104\, United States
CATEGORIES:Group Nights
GEO:32.7359889;-97.333097
X-APPLE-STRUCTURED-LOCATION;VALUE=URI;X-ADDRESS=The WARM Place 809 Lipscomb Street Fort Worth TX 76104 United States;X-APPLE-RADIUS=500;X-TITLE=809 Lipscomb Street:geo:-97.333097,32.7359889
END:VEVENT
BEGIN:VEVENT
DTSTART;TZID=America/Chicago:20280111T181500
DTEND;TZID=America/Chicago:20280111T201500
DTSTAMP:20260421T145128
CREATED:20250624T065017Z
LAST-MODIFIED:20250624T065017Z
UID:16814837-1831227300-1831234500@www.thewarmplace.org
SUMMARY:S&D V Group
DESCRIPTION:Support group for children ages 5-18 who have experienced the death of a parent. Children must be accompanied by a parent or legal guardian. Families must contact The WARM Place to schedule an intake appointment prior to joining evening groups.
URL:https://www.thewarmplace.org/event/sd-v-group/2028-01-11/
LOCATION:The WARM Place\, 809 Lipscomb Street\, Fort Worth\, TX\, 76104\, United States
CATEGORIES:Group Nights
GEO:32.7359889;-97.333097
X-APPLE-STRUCTURED-LOCATION;VALUE=URI;X-ADDRESS=The WARM Place 809 Lipscomb Street Fort Worth TX 76104 United States;X-APPLE-RADIUS=500;X-TITLE=809 Lipscomb Street:geo:-97.333097,32.7359889
END:VEVENT
BEGIN:VEVENT
DTSTART;TZID=America/Chicago:20280125T181500
DTEND;TZID=America/Chicago:20280125T201500
DTSTAMP:20260421T145128
CREATED:20250624T065017Z
LAST-MODIFIED:20250624T065017Z
UID:16814838-1832436900-1832444100@www.thewarmplace.org
SUMMARY:S&D V Group
DESCRIPTION:Support group for children ages 5-18 who have experienced the death of a parent. Children must be accompanied by a parent or legal guardian. Families must contact The WARM Place to schedule an intake appointment prior to joining evening groups.
URL:https://www.thewarmplace.org/event/sd-v-group/2028-01-25/
LOCATION:The WARM Place\, 809 Lipscomb Street\, Fort Worth\, TX\, 76104\, United States
CATEGORIES:Group Nights
GEO:32.7359889;-97.333097
X-APPLE-STRUCTURED-LOCATION;VALUE=URI;X-ADDRESS=The WARM Place 809 Lipscomb Street Fort Worth TX 76104 United States;X-APPLE-RADIUS=500;X-TITLE=809 Lipscomb Street:geo:-97.333097,32.7359889
END:VEVENT
BEGIN:VEVENT
DTSTART;TZID=America/Chicago:20280208T181500
DTEND;TZID=America/Chicago:20280208T201500
DTSTAMP:20260421T145128
CREATED:20250624T065017Z
LAST-MODIFIED:20250624T065017Z
UID:16814839-1833646500-1833653700@www.thewarmplace.org
SUMMARY:S&D V Group
DESCRIPTION:Support group for children ages 5-18 who have experienced the death of a parent. Children must be accompanied by a parent or legal guardian. Families must contact The WARM Place to schedule an intake appointment prior to joining evening groups.
URL:https://www.thewarmplace.org/event/sd-v-group/2028-02-08/
LOCATION:The WARM Place\, 809 Lipscomb Street\, Fort Worth\, TX\, 76104\, United States
CATEGORIES:Group Nights
GEO:32.7359889;-97.333097
X-APPLE-STRUCTURED-LOCATION;VALUE=URI;X-ADDRESS=The WARM Place 809 Lipscomb Street Fort Worth TX 76104 United States;X-APPLE-RADIUS=500;X-TITLE=809 Lipscomb Street:geo:-97.333097,32.7359889
END:VEVENT
BEGIN:VEVENT
DTSTART;TZID=America/Chicago:20280222T181500
DTEND;TZID=America/Chicago:20280222T201500
DTSTAMP:20260421T145128
CREATED:20250624T065017Z
LAST-MODIFIED:20250624T065017Z
UID:16814840-1834856100-1834863300@www.thewarmplace.org
SUMMARY:S&D V Group
DESCRIPTION:Support group for children ages 5-18 who have experienced the death of a parent. Children must be accompanied by a parent or legal guardian. Families must contact The WARM Place to schedule an intake appointment prior to joining evening groups.
URL:https://www.thewarmplace.org/event/sd-v-group/2028-02-22/
LOCATION:The WARM Place\, 809 Lipscomb Street\, Fort Worth\, TX\, 76104\, United States
CATEGORIES:Group Nights
GEO:32.7359889;-97.333097
X-APPLE-STRUCTURED-LOCATION;VALUE=URI;X-ADDRESS=The WARM Place 809 Lipscomb Street Fort Worth TX 76104 United States;X-APPLE-RADIUS=500;X-TITLE=809 Lipscomb Street:geo:-97.333097,32.7359889
END:VEVENT
BEGIN:VEVENT
DTSTART;TZID=America/Chicago:20280307T181500
DTEND;TZID=America/Chicago:20280307T201500
DTSTAMP:20260421T145128
CREATED:20250624T065017Z
LAST-MODIFIED:20250624T065017Z
UID:16814841-1836065700-1836072900@www.thewarmplace.org
SUMMARY:S&D V Group
DESCRIPTION:Support group for children ages 5-18 who have experienced the death of a parent. Children must be accompanied by a parent or legal guardian. Families must contact The WARM Place to schedule an intake appointment prior to joining evening groups.
URL:https://www.thewarmplace.org/event/sd-v-group/2028-03-07/
LOCATION:The WARM Place\, 809 Lipscomb Street\, Fort Worth\, TX\, 76104\, United States
CATEGORIES:Group Nights
GEO:32.7359889;-97.333097
X-APPLE-STRUCTURED-LOCATION;VALUE=URI;X-ADDRESS=The WARM Place 809 Lipscomb Street Fort Worth TX 76104 United States;X-APPLE-RADIUS=500;X-TITLE=809 Lipscomb Street:geo:-97.333097,32.7359889
END:VEVENT
BEGIN:VEVENT
DTSTART;TZID=America/Chicago:20280321T181500
DTEND;TZID=America/Chicago:20280321T201500
DTSTAMP:20260421T145128
CREATED:20250624T065017Z
LAST-MODIFIED:20250624T065017Z
UID:16814842-1837275300-1837282500@www.thewarmplace.org
SUMMARY:S&D V Group
DESCRIPTION:Support group for children ages 5-18 who have experienced the death of a parent. Children must be accompanied by a parent or legal guardian. Families must contact The WARM Place to schedule an intake appointment prior to joining evening groups.
URL:https://www.thewarmplace.org/event/sd-v-group/2028-03-21/
LOCATION:The WARM Place\, 809 Lipscomb Street\, Fort Worth\, TX\, 76104\, United States
CATEGORIES:Group Nights
GEO:32.7359889;-97.333097
X-APPLE-STRUCTURED-LOCATION;VALUE=URI;X-ADDRESS=The WARM Place 809 Lipscomb Street Fort Worth TX 76104 United States;X-APPLE-RADIUS=500;X-TITLE=809 Lipscomb Street:geo:-97.333097,32.7359889
END:VEVENT
BEGIN:VEVENT
DTSTART;TZID=America/Chicago:20280404T181500
DTEND;TZID=America/Chicago:20280404T201500
DTSTAMP:20260421T145128
CREATED:20250624T065017Z
LAST-MODIFIED:20250624T065017Z
UID:16814843-1838484900-1838492100@www.thewarmplace.org
SUMMARY:S&D V Group
DESCRIPTION:Support group for children ages 5-18 who have experienced the death of a parent. Children must be accompanied by a parent or legal guardian. Families must contact The WARM Place to schedule an intake appointment prior to joining evening groups.
URL:https://www.thewarmplace.org/event/sd-v-group/2028-04-04/
LOCATION:The WARM Place\, 809 Lipscomb Street\, Fort Worth\, TX\, 76104\, United States
CATEGORIES:Group Nights
GEO:32.7359889;-97.333097
X-APPLE-STRUCTURED-LOCATION;VALUE=URI;X-ADDRESS=The WARM Place 809 Lipscomb Street Fort Worth TX 76104 United States;X-APPLE-RADIUS=500;X-TITLE=809 Lipscomb Street:geo:-97.333097,32.7359889
END:VEVENT
BEGIN:VEVENT
DTSTART;TZID=America/Chicago:20280418T181500
DTEND;TZID=America/Chicago:20280418T201500
DTSTAMP:20260421T145128
CREATED:20250624T065017Z
LAST-MODIFIED:20250624T065017Z
UID:16814844-1839694500-1839701700@www.thewarmplace.org
SUMMARY:S&D V Group
DESCRIPTION:Support group for children ages 5-18 who have experienced the death of a parent. Children must be accompanied by a parent or legal guardian. Families must contact The WARM Place to schedule an intake appointment prior to joining evening groups.
URL:https://www.thewarmplace.org/event/sd-v-group/2028-04-18/
LOCATION:The WARM Place\, 809 Lipscomb Street\, Fort Worth\, TX\, 76104\, United States
CATEGORIES:Group Nights
GEO:32.7359889;-97.333097
X-APPLE-STRUCTURED-LOCATION;VALUE=URI;X-ADDRESS=The WARM Place 809 Lipscomb Street Fort Worth TX 76104 United States;X-APPLE-RADIUS=500;X-TITLE=809 Lipscomb Street:geo:-97.333097,32.7359889
END:VEVENT
BEGIN:VEVENT
DTSTART;TZID=America/Chicago:20280502T181500
DTEND;TZID=America/Chicago:20280502T201500
DTSTAMP:20260421T145128
CREATED:20250624T065017Z
LAST-MODIFIED:20250624T065017Z
UID:16814845-1840904100-1840911300@www.thewarmplace.org
SUMMARY:S&D V Group
DESCRIPTION:Support group for children ages 5-18 who have experienced the death of a parent. Children must be accompanied by a parent or legal guardian. Families must contact The WARM Place to schedule an intake appointment prior to joining evening groups.
URL:https://www.thewarmplace.org/event/sd-v-group/2028-05-02/
LOCATION:The WARM Place\, 809 Lipscomb Street\, Fort Worth\, TX\, 76104\, United States
CATEGORIES:Group Nights
GEO:32.7359889;-97.333097
X-APPLE-STRUCTURED-LOCATION;VALUE=URI;X-ADDRESS=The WARM Place 809 Lipscomb Street Fort Worth TX 76104 United States;X-APPLE-RADIUS=500;X-TITLE=809 Lipscomb Street:geo:-97.333097,32.7359889
END:VEVENT
BEGIN:VEVENT
DTSTART;TZID=America/Chicago:20280516T181500
DTEND;TZID=America/Chicago:20280516T201500
DTSTAMP:20260421T145128
CREATED:20250624T065017Z
LAST-MODIFIED:20250624T065017Z
UID:16814846-1842113700-1842120900@www.thewarmplace.org
SUMMARY:S&D V Group
DESCRIPTION:Support group for children ages 5-18 who have experienced the death of a parent. Children must be accompanied by a parent or legal guardian. Families must contact The WARM Place to schedule an intake appointment prior to joining evening groups.
URL:https://www.thewarmplace.org/event/sd-v-group/2028-05-16/
LOCATION:The WARM Place\, 809 Lipscomb Street\, Fort Worth\, TX\, 76104\, United States
CATEGORIES:Group Nights
GEO:32.7359889;-97.333097
X-APPLE-STRUCTURED-LOCATION;VALUE=URI;X-ADDRESS=The WARM Place 809 Lipscomb Street Fort Worth TX 76104 United States;X-APPLE-RADIUS=500;X-TITLE=809 Lipscomb Street:geo:-97.333097,32.7359889
END:VEVENT
END:VCALENDAR